BEGIN:VCALENDAR
VERSION:2.0
PRODID:-//Verdadeiro Olhar - ECPv5.8.0//NONSGML v1.0//EN
CALSCALE:GREGORIAN
METHOD:PUBLISH
X-WR-CALNAME:Verdadeiro Olhar
X-ORIGINAL-URL:https://www.verdadeiroolhar.pt
X-WR-CALDESC:Events for Verdadeiro Olhar
BEGIN:VTIMEZONE
TZID:UTC
BEGIN:STANDARD
TZOFFSETFROM:+0000
TZOFFSETTO:+0000
TZNAME:UTC
DTSTART:20170101T000000
END:STANDARD
END:VTIMEZONE
BEGIN:VEVENT
DTSTART;TZID=UTC:20171216T210000
DTEND;TZID=UTC:20171216T233000
DTSTAMP:20260422T183252
CREATED:20171215T144438Z
LAST-MODIFIED:20171215T144438Z
UID:32511-1513458000-1513467000@www.verdadeiroolhar.pt
SUMMARY:Pinóquio - Bailado em três atos em Lordelo
DESCRIPTION:O Auditório da Fundação A LORD\, em Lordelo\, Paredes\, recebe\, no dia 16\, pelas 21h30\, o espectáculo Pinóquio – Bailado em três atos\, pelo Centro de Dança do Porto. \nMeia hora mais cedo é realizada a abertura da exposição de presépios organizada pela Fundação A LORD. \nA entrada é livre.
URL:https://www.verdadeiroolhar.pt/evento/pinoquio-bailado-tres-atos-lordelo/
LOCATION:Auditório da Fundação A LORD\, Lordelo
CATEGORIES:Cultura,Eventos Públicos
ATTACH;FMTTYPE=image/jpeg:https://www.verdadeiroolhar.pt/wp-content/uploads/2017/12/Cartaz.jpg
END:VEVENT
END:VCALENDAR