BEGIN:VCALENDAR
VERSION:2.0
PRODID:-//Verdadeiro Olhar - ECPv5.8.0//NONSGML v1.0//EN
CALSCALE:GREGORIAN
METHOD:PUBLISH
X-WR-CALNAME:Verdadeiro Olhar
X-ORIGINAL-URL:https://www.verdadeiroolhar.pt
X-WR-CALDESC:Events for Verdadeiro Olhar
BEGIN:VTIMEZONE
TZID:UTC
BEGIN:STANDARD
TZOFFSETFROM:+0000
TZOFFSETTO:+0000
TZNAME:UTC
DTSTART:20170101T000000
END:STANDARD
END:VTIMEZONE
BEGIN:VEVENT
DTSTART;TZID=UTC:20170520T213000
DTEND;TZID=UTC:20170520T233000
DTSTAMP:20260421T183459
CREATED:20170511T102352Z
LAST-MODIFIED:20170511T102352Z
UID:20833-1495315800-1495323000@www.verdadeiroolhar.pt
SUMMARY:"Pequeno Trabalho Para Velho Palhaço" na LORD
DESCRIPTION:No dia 20 de Maio\, realizar-se-á o espectáculo de teatro “Pequeno Trabalho Para Velho Palhaço”\, de Matéi Visniec\, pela Companhia de Teatro Seiva Trupe\, no Auditório A LORD\, pelas 21h30. \nA entrada é livre e as reservas de bilhetes poderão ser efectuadas pelo telefone (224 447 357) ou por e-mail (geral@nullfundacaoalord.pt).
URL:https://www.verdadeiroolhar.pt/evento/pequeno-trabalho-velho-palhaco-na-lord/
LOCATION:Auditório da Fundação A LORD\, Lordelo
CATEGORIES:Cultura
ATTACH;FMTTYPE=image/jpeg:https://www.verdadeiroolhar.pt/wp-content/uploads/2017/05/18342767_1359547470832055_9147227715527863548_n.jpg
END:VEVENT
END:VCALENDAR