BEGIN:VCALENDAR
VERSION:2.0
PRODID:-//Verdadeiro Olhar - ECPv5.8.0//NONSGML v1.0//EN
CALSCALE:GREGORIAN
METHOD:PUBLISH
X-WR-CALNAME:Verdadeiro Olhar
X-ORIGINAL-URL:https://www.verdadeiroolhar.pt
X-WR-CALDESC:Events for Verdadeiro Olhar
BEGIN:VTIMEZONE
TZID:UTC
BEGIN:STANDARD
TZOFFSETFROM:+0000
TZOFFSETTO:+0000
TZNAME:UTC
DTSTART:20150101T000000
END:STANDARD
END:VTIMEZONE
BEGIN:VEVENT
DTSTART;TZID=UTC:20151207T210000
DTEND;TZID=UTC:20151207T230000
DTSTAMP:20260422T133946
CREATED:20151126T150313Z
LAST-MODIFIED:20151126T150313Z
UID:2337-1449522000-1449529200@www.verdadeiroolhar.pt
SUMMARY:Peça de teatro “História da Serragem da Velha”
DESCRIPTION:No dia 7 de Dezembro\, irá realizar-se uma Peça de teatro “História da Serragem da Velha”\, Associação de Teatro Tru’Peça. Este evento foi organizado pela Junta de Freguesia de Rebordosa em parceria com a Associação de Teatro Tru’Peça.
URL:https://www.verdadeiroolhar.pt/evento/peca-de-teatro-historia-da-serragem-da-velha/
LOCATION:salão da Junta de Freguesia de Rebordosa\, Rebordosa
CATEGORIES:Cultura
END:VEVENT
END:VCALENDAR