BEGIN:VCALENDAR
VERSION:2.0
PRODID:-//Verdadeiro Olhar - ECPv5.8.0//NONSGML v1.0//EN
CALSCALE:GREGORIAN
METHOD:PUBLISH
X-WR-CALNAME:Verdadeiro Olhar
X-ORIGINAL-URL:https://www.verdadeiroolhar.pt
X-WR-CALDESC:Events for Verdadeiro Olhar
BEGIN:VTIMEZONE
TZID:UTC
BEGIN:STANDARD
TZOFFSETFROM:+0000
TZOFFSETTO:+0000
TZNAME:UTC
DTSTART:20150101T000000
END:STANDARD
END:VTIMEZONE
BEGIN:VEVENT
DTSTART;TZID=UTC:20151120T143000
DTEND;TZID=UTC:20151120T163000
DTSTAMP:20260421T094540
CREATED:20151026T152305Z
LAST-MODIFIED:20151026T152305Z
UID:1265-1448029800-1448037000@www.verdadeiroolhar.pt
SUMMARY:Peça de Teatro "Guerra é Guerra" no Auditório de Lousada
DESCRIPTION:Narra com humor a epopeia vivida pelo povo Português na resistência às três Invasões Francesas. Com os seus personagens\, viajamos pelo país e conhecemos os locais\, a gastronomia\, os acontecimentos\, os intervenientes da guerra e até provérbios que tiveram origem na época.
URL:https://www.verdadeiroolhar.pt/evento/peca-de-teatro-guerra-e-guerra-no-auditorio-de-lousada/
LOCATION:Auditório Municipal de Lousada\, Qtª das Pocinhas\, Lousada\, 4620-674\, Portugal
CATEGORIES:Cultura
END:VEVENT
END:VCALENDAR