BEGIN:VCALENDAR
VERSION:2.0
PRODID:-//Verdadeiro Olhar - ECPv5.8.0//NONSGML v1.0//EN
CALSCALE:GREGORIAN
METHOD:PUBLISH
X-WR-CALNAME:Verdadeiro Olhar
X-ORIGINAL-URL:https://www.verdadeiroolhar.pt
X-WR-CALDESC:Events for Verdadeiro Olhar
BEGIN:VTIMEZONE
TZID:UTC
BEGIN:STANDARD
TZOFFSETFROM:+0000
TZOFFSETTO:+0000
TZNAME:UTC
DTSTART:20170101T000000
END:STANDARD
END:VTIMEZONE
BEGIN:VEVENT
DTSTART;VALUE=DATE:20170721
DTEND;VALUE=DATE:20170723
DTSTAMP:20260422T195457
CREATED:20170707T110901Z
LAST-MODIFIED:20170714T162709Z
UID:24002-1500595200-1500767999@www.verdadeiroolhar.pt
SUMMARY:Park Festival está de volta a Paços de Ferreira
DESCRIPTION:No fim-de-semana\, a 21 e 22 de Julho\, o Parque Urbano de Paços de Ferreira vai receber mais uma edição do Park Festival\, um festival de bandas emergentes\, com entrada livre. \nNo dia 21 de Julho estão agendados os concertos de Rui Taipa\, Malaboos\, Bed Legs\, Moni RockenRolla – DJ. \nNo dia 22\, será  vez The Black Zebra\, TURVO\, The Black Wizards e Cão Danado.
URL:https://www.verdadeiroolhar.pt/evento/park-festival-esta-volta-pacos-ferreira/
LOCATION:Parque Urbano de Paços de Ferreira\, Paços de Ferreira
CATEGORIES:Eventos Públicos
ATTACH;FMTTYPE=image/jpeg:https://www.verdadeiroolhar.pt/wp-content/uploads/2017/07/Park-Festival.jpg
END:VEVENT
END:VCALENDAR