BEGIN:VCALENDAR
VERSION:2.0
PRODID:-//Verdadeiro Olhar - ECPv5.8.0//NONSGML v1.0//EN
CALSCALE:GREGORIAN
METHOD:PUBLISH
X-WR-CALNAME:Verdadeiro Olhar
X-ORIGINAL-URL:https://www.verdadeiroolhar.pt
X-WR-CALDESC:Events for Verdadeiro Olhar
BEGIN:VTIMEZONE
TZID:UTC
BEGIN:STANDARD
TZOFFSETFROM:+0000
TZOFFSETTO:+0000
TZNAME:UTC
DTSTART:20170101T000000
END:STANDARD
END:VTIMEZONE
BEGIN:VEVENT
DTSTART;TZID=UTC:20170401T213000
DTEND;TZID=UTC:20170401T233000
DTSTAMP:20260423T033159
CREATED:20170330T143009Z
LAST-MODIFIED:20170330T143209Z
UID:19387-1491082200-1491089400@www.verdadeiroolhar.pt
SUMMARY:"Paredes-Meias" no PT Paredes com Teatro
DESCRIPTION:No dia 1 de Abril\, pelas 21h30\, a Casa da Cultura de Paredes recebe a peça “Paredes-Meias\, no âmbito do PT Paredes com Teatro\, pelo Grupo Infanto-juvenil “Os Mindinhos”. A entrada é gratuita. \nA peça \n“Paredes-Meias” é antes de mais um projecto de criação\, onde todos os intervenientes tiveram uma contribuição única. Neste projecto teatral todas as personagens foram criadas pelos nossos jovens actores. Ao longo do ano fomos fazendo improvisações e jogos teatrais onde cada um foi descobrindo as palavras\, os gestos\, os tiques\, os sotaques das suas personagens; tudo partiu deles. \n\n\n\n\n\n\nEm Paredes-meias assistimos a um encontro de vizinhos\, onde todos sabem da vida dos outros\, ou acham que sabem. Todos sabem criticar\, porque “a galinha da vizinha\, é sempre mais gorda do que a minha”. Mas\, num mundo onde todos somos tão rápidos a julgar os outros\, será que estamos a avaliar bem?! Onde se esconde a verdade?! Qual é a verdade? \nÉ uma história de enganos e desenganos\, cheia de cuscuvilhice própria de uma boa vizinhança\, cheia de surpresas e reviravoltas; e porque queremos agarrar o espectador\, as personagens vão-se revelando momento a momento\, até ao último segundo.
URL:https://www.verdadeiroolhar.pt/evento/paredes-meias-no-pt-paredes-teatro/
LOCATION:Casa da Cultura de Paredes\, Avenida da República\, Paredes\, 4580-193
CATEGORIES:Cultura
ATTACH;FMTTYPE=image/png:https://www.verdadeiroolhar.pt/wp-content/uploads/2017/03/paredesmeiastimeline_1_1024_2500.png
END:VEVENT
END:VCALENDAR