BEGIN:VCALENDAR
VERSION:2.0
PRODID:-//Verdadeiro Olhar - ECPv5.8.0//NONSGML v1.0//EN
CALSCALE:GREGORIAN
METHOD:PUBLISH
X-WR-CALNAME:Verdadeiro Olhar
X-ORIGINAL-URL:https://www.verdadeiroolhar.pt
X-WR-CALDESC:Events for Verdadeiro Olhar
BEGIN:VTIMEZONE
TZID:UTC
BEGIN:STANDARD
TZOFFSETFROM:+0000
TZOFFSETTO:+0000
TZNAME:UTC
DTSTART:20170101T000000
END:STANDARD
END:VTIMEZONE
BEGIN:VEVENT
DTSTART;TZID=UTC:20171203T153000
DTEND;TZID=UTC:20171203T173000
DTSTAMP:20260422T031356
CREATED:20171128T104316Z
LAST-MODIFIED:20171128T104316Z
UID:31405-1512315000-1512322200@www.verdadeiroolhar.pt
SUMMARY:Panda do Kung Fu em dança
DESCRIPTION:A Associação Académica e Cultural de Ermesinde realiza\, no dia 3 de Dezembro\, o espectáculo Panda do Kung Fu\, integralmente concebido pela valência de Danças Criativas. \nA iniciativa decorrerá na Sala de Espectáculos do Fórum Cultural de Ermesinde\, às 15h30.
URL:https://www.verdadeiroolhar.pt/evento/panda-do-kung-fu-danca/
LOCATION:Fórum Cultural de Ermesinde\, Rua Fábrica da Cerâmica\, Valongo
CATEGORIES:Cultura
ATTACH;FMTTYPE=image/jpeg:https://www.verdadeiroolhar.pt/wp-content/uploads/2017/11/Panda.jpg
END:VEVENT
END:VCALENDAR