BEGIN:VCALENDAR
VERSION:2.0
PRODID:-//Verdadeiro Olhar - ECPv5.8.0//NONSGML v1.0//EN
CALSCALE:GREGORIAN
METHOD:PUBLISH
X-WR-CALNAME:Verdadeiro Olhar
X-ORIGINAL-URL:https://www.verdadeiroolhar.pt
X-WR-CALDESC:Events for Verdadeiro Olhar
BEGIN:VTIMEZONE
TZID:UTC
BEGIN:STANDARD
TZOFFSETFROM:+0000
TZOFFSETTO:+0000
TZNAME:UTC
DTSTART:20170101T000000
END:STANDARD
END:VTIMEZONE
BEGIN:VEVENT
DTSTART;VALUE=DATE:20170722
DTEND;VALUE=DATE:20170723
DTSTAMP:20260423T002046
CREATED:20170710T141536Z
LAST-MODIFIED:20170711T103646Z
UID:24095-1500681600-1500767999@www.verdadeiroolhar.pt
SUMMARY:Paço de Sousa acolhe o 37.º Festival de Folclore Luso/Checo
DESCRIPTION:No sábado\, dia 22\, Paço de Sousa\, em Penafiel\, vai acolher o 37.º Festival de Folclore Luso/Checo. \nPara além do Rancho Folclórico de Paço de Sousa\, que organiza a iniciativa\, a freguesia vai receber grupos de Santarém\, Azumbuja\, Leiria\, Aveiro e República Checa.
URL:https://www.verdadeiroolhar.pt/evento/paco-sousa-acolhe-37-rancho-folclorico-lusocheco/
LOCATION:Paço de Sousa\, Paço de Sousa\, Penafiel
CATEGORIES:Eventos Públicos
ATTACH;FMTTYPE=image/jpeg:https://www.verdadeiroolhar.pt/wp-content/uploads/2017/07/Festival-Rancho-Folclórico.jpg
END:VEVENT
END:VCALENDAR