BEGIN:VCALENDAR
VERSION:2.0
PRODID:-//Verdadeiro Olhar - ECPv5.8.0//NONSGML v1.0//EN
CALSCALE:GREGORIAN
METHOD:PUBLISH
X-WR-CALNAME:Verdadeiro Olhar
X-ORIGINAL-URL:https://www.verdadeiroolhar.pt
X-WR-CALDESC:Events for Verdadeiro Olhar
BEGIN:VTIMEZONE
TZID:UTC
BEGIN:STANDARD
TZOFFSETFROM:+0000
TZOFFSETTO:+0000
TZNAME:UTC
DTSTART:20160101T000000
END:STANDARD
END:VTIMEZONE
BEGIN:VEVENT
DTSTART;VALUE=DATE:20160702
DTEND;VALUE=DATE:20160822
DTSTAMP:20260422T091947
CREATED:20160701T162500Z
LAST-MODIFIED:20160701T162500Z
UID:10907-1467417600-1471823999@www.verdadeiroolhar.pt
SUMMARY:"Olhares" em exposição no Fórum de Ermesinde
DESCRIPTION:O Fórum Cultural de Ermesinde inaugura\, este sábado\, pelas 21h30\, a exposição “Olhares”\, que permanecerá até 21 de Agosto.
URL:https://www.verdadeiroolhar.pt/evento/olhares-exposicao-no-forum-ermesinde/
LOCATION:Fórum Cultural de Ermesinde\, Rua Fábrica da Cerâmica\, Valongo
CATEGORIES:Cultura,Eventos Públicos
ATTACH;FMTTYPE=image/jpeg:https://www.verdadeiroolhar.pt/wp-content/uploads/2016/07/cartazfilomena-e1467390255496.jpg
END:VEVENT
END:VCALENDAR