BEGIN:VCALENDAR
VERSION:2.0
PRODID:-//Verdadeiro Olhar - ECPv5.8.0//NONSGML v1.0//EN
CALSCALE:GREGORIAN
METHOD:PUBLISH
X-WR-CALNAME:Verdadeiro Olhar
X-ORIGINAL-URL:https://www.verdadeiroolhar.pt
X-WR-CALDESC:Events for Verdadeiro Olhar
BEGIN:VTIMEZONE
TZID:UTC
BEGIN:STANDARD
TZOFFSETFROM:+0000
TZOFFSETTO:+0000
TZNAME:UTC
DTSTART:20170101T000000
END:STANDARD
END:VTIMEZONE
BEGIN:VEVENT
DTSTART;TZID=UTC:20171208T160000
DTEND;TZID=UTC:20171208T173000
DTSTAMP:20260422T074120
CREATED:20171120T165645Z
LAST-MODIFIED:20171120T165645Z
UID:31005-1512748800-1512754200@www.verdadeiroolhar.pt
SUMMARY:O Principezinho no Auditório de Lousada
DESCRIPTION:No dia 8 de Dezembro\, a Jangada teatro leva a cena\, no Auditório de Lousada\, a peça “O Principezinho”. \nOs bilhetes custam cinco euros e podem ser adquiridos  aqui. \n \nSinopse \nQuando Antoine de Saint-Exupéry\, escritor e ilustrador\, apaixonado pela mecânica e pela aviação\, escreveu O Principezinho estava de longe de prever a força ecuménica da sua obra. Autor de inúmeros artigos sobre a guerra desenvolveu em O Principezinho uma narrativa que na sua camada mais profunda exponencia o apreço pela vida. Valores como a perda\, a amizade e o amor são apresentados de forma ingénua e simples\, mas acessível e desarmante para crianças e adultos. A dramatização da obra de Saint-Exupéry tem sido disseminada um pouco por toda a parte. A presente criação aposta numa dimensão de espectáculo musicado\, em que a expressão do texto\, além de dito\, é também cantado. A música reforçará a leveza poética de uma obra que\, rivalizando até com a própria Bíblia\, tem sido das mais editadas e representadas em todo o mundo. \nO espetáculo \nA obra de Saint-Exupéry potencia uma grande versatilidade da narrativa e do imaginário\, proporcionando um desenvolvimento visual adequado à contemporaneidade. Por isso mesmo\, perante a sugestão visual que o autor propicia (ele próprio ilustrador da sua história) em relação ao deserto\, aos asteróides\, cometas e planetas\, haverá um diálogo entre a projecção vídeo do universo e a cenografia que harmoniza e materializa os asteróides no espaço cénico. Na procura/viagem que O Principezinho faz pelos diferentes planetas encontra a diversidade das personagens acantonadas e sós. E para cada uma dessas personagens haverá uma música\, elemento também distintivo de cada situação. A plasticidade\, a interpretação e a concepção musical\, cada uma enriquecerá o espectáculo\, mostrando que uma parte do jogo teatral é para a criança e outra para o adulto. Sabendo também equacionar que há adultos que querem a visão da criança e crianças que querem ser tratadas como adultas. Estaremos assim a proporcionar ao espectador um espectáculo com múltiplas camadas. \nFicha Artística e Técnica \nTexto | Antoine de Saint-Exupéry\nEncenação\, Adaptação e Espaço Cénico| Xico Alves\nInterpretação | Daniel Silva\, Filipe Abreu\, Rita Calatré e Vítor Fernandes\nMúsica Original e Interpretação | Paulo Pires\nDramaturgia e Letras | Rita Calatré\nCoreografia | Daniela Ferreira\nDesenho de Luz e Som | Fernando Oliveira e Fred Meireles\nVídeo | Alejandrina Ram\nGrafismo | Fedra Santos\nConceção Plástica e Cenografia | Fernando Moreira e Xico Alves\nFigurinos | Paula Cabral\nMestre Costureira | Lurdes Sobrado \nGénero Artístico: Teatro Musical\nClassificação Etária: M/3\nDuração Aproximada: 70 min
URL:https://www.verdadeiroolhar.pt/evento/o-principezinho-no-auditorio-de-lousada/
LOCATION:Auditório Municipal de Lousada\, Qtª das Pocinhas\, Lousada\, 4620-674\, Portugal
CATEGORIES:Cultura
ATTACH;FMTTYPE=image/jpeg:https://www.verdadeiroolhar.pt/wp-content/uploads/2017/11/Principezinho.jpg
ORGANIZER;CN="Jangada%20teatro":MAILTO:geral@jangadateatro.com
END:VEVENT
END:VCALENDAR