BEGIN:VCALENDAR
VERSION:2.0
PRODID:-//Verdadeiro Olhar - ECPv5.8.0//NONSGML v1.0//EN
CALSCALE:GREGORIAN
METHOD:PUBLISH
X-WR-CALNAME:Verdadeiro Olhar
X-ORIGINAL-URL:https://www.verdadeiroolhar.pt
X-WR-CALDESC:Events for Verdadeiro Olhar
BEGIN:VTIMEZONE
TZID:UTC
BEGIN:STANDARD
TZOFFSETFROM:+0000
TZOFFSETTO:+0000
TZNAME:UTC
DTSTART:20150101T000000
END:STANDARD
END:VTIMEZONE
BEGIN:VEVENT
DTSTART;TZID=UTC:20151123T143000
DTEND;TZID=UTC:20151123T163000
DTSTAMP:20260421T141844
CREATED:20151026T153012Z
LAST-MODIFIED:20151026T153012Z
UID:1273-1448289000-1448296200@www.verdadeiroolhar.pt
SUMMARY:O Planeta Limpo do Filipe Pinto
DESCRIPTION:“O Planeta Limpo do Filipe Pinto” é uma viagem\, repleta de aventuras\, ao planeta imaginário do jovem músico Filipe Pinto! \n\nPela mão do Filipe Pinto\, terás oportunidade de conhecer os recantos e encantos da floresta\, cruzando-te com os seus simpáticos habitantes\, as mais diversas criaturas da natureza\, e percebendo\, na primeira voz\, o impacto negativo das más acções humanas na existência e na sobrevivência de todos os seres vivos.
URL:https://www.verdadeiroolhar.pt/evento/o-planeta-limpo-do-filipe-pinto/
LOCATION:Auditório Municipal de Lousada\, Qtª das Pocinhas\, Lousada\, 4620-674\, Portugal
CATEGORIES:Cultura
END:VEVENT
END:VCALENDAR