BEGIN:VCALENDAR
VERSION:2.0
PRODID:-//Verdadeiro Olhar - ECPv5.8.0//NONSGML v1.0//EN
CALSCALE:GREGORIAN
METHOD:PUBLISH
X-WR-CALNAME:Verdadeiro Olhar
X-ORIGINAL-URL:https://www.verdadeiroolhar.pt
X-WR-CALDESC:Events for Verdadeiro Olhar
BEGIN:VTIMEZONE
TZID:UTC
BEGIN:STANDARD
TZOFFSETFROM:+0000
TZOFFSETTO:+0000
TZNAME:UTC
DTSTART:20170101T000000
END:STANDARD
END:VTIMEZONE
BEGIN:VEVENT
DTSTART;TZID=UTC:20170521T213000
DTEND;TZID=UTC:20170521T233000
DTSTAMP:20260421T125056
CREATED:20170510T175621Z
LAST-MODIFIED:20170510T175621Z
UID:20828-1495402200-1495409400@www.verdadeiroolhar.pt
SUMMARY:Noite Europeia dos Museus em Penafiel
DESCRIPTION:No dia 20 de Maio\, pelas 21h30\, no âmbito da Noite Europeia dos Museus é inaugurada a exposição colectiva “Olhar e Experiência: Interferências no Arquivo”\, no Museu Municipal de Penafiel. \nEsta exposição apresenta uma selecção de obras de colecção da Cultivamos Cultura sobre o tema da percepção e mediação cultural e da apropriação da ciência na arte contemporânea. \nA colecção\, a exposição e a curadoria apresentam um novo olhar experimental que agrega objectos\, pensamentos e fragmentos de cultura que continuamente geram algo impoluto. \nO olhar sobre o acervo/arquivo propõe múltiplas narrativas convidando à experiência de novas conexões com o Museu de Penafiel\, a cidade de Penafiel e o ISCE Douro. \nA exposição estará patente até 11 de Junho. A curadoria é de Maria Manuela Lopes. \nOrganização:\nISCE Douro em parceria com Museu de Penafiel\nCultivamos Cultura – Associação Cultural\nPraxis & Poiesis (ID+ – Instituto de Investigação em Design\, Media e Cultura)\nEctopia – Laboratório de Artes Experimental\nI3S (Instituto de Investigação e Inovação em Saúde)
URL:https://www.verdadeiroolhar.pt/evento/noite-europeia-dos-museus-penafiel/
LOCATION:Museu Municipal de Penafiel\, R. do Paço\, Penafiel\, 4560-485\, Portugal
CATEGORIES:Cultura
ATTACH;FMTTYPE=image/jpeg:https://www.verdadeiroolhar.pt/wp-content/uploads/2016/05/museu.jpg
END:VEVENT
END:VCALENDAR