BEGIN:VCALENDAR
VERSION:2.0
PRODID:-//Verdadeiro Olhar - ECPv5.8.0//NONSGML v1.0//EN
CALSCALE:GREGORIAN
METHOD:PUBLISH
X-WR-CALNAME:Verdadeiro Olhar
X-ORIGINAL-URL:https://www.verdadeiroolhar.pt
X-WR-CALDESC:Events for Verdadeiro Olhar
BEGIN:VTIMEZONE
TZID:UTC
BEGIN:STANDARD
TZOFFSETFROM:+0000
TZOFFSETTO:+0000
TZNAME:UTC
DTSTART:20160101T000000
END:STANDARD
END:VTIMEZONE
BEGIN:VEVENT
DTSTART;TZID=UTC:20160916T210000
DTEND;TZID=UTC:20160916T235500
DTSTAMP:20260424T173330
CREATED:20160812T140510Z
LAST-MODIFIED:20160812T140510Z
UID:12432-1474059600-1474070100@www.verdadeiroolhar.pt
SUMMARY:Noite dos Morcegos no Parque de Casais
DESCRIPTION:No dia 16 de Setembro\, pelas 21h00\, o Parque de Casais\, em Lousada\, recebe a Noite dos Morcegos\, no âmbito do projecto BioLousada. \nA iniciativa\, que contará com a presença de uma bióloga\, vai permitir conhecer melhor estes animais e as espécies que existem no concelho. \nHaverá uma apresentação teórica\, uma caminhada nocturna e um chá convívio. \nAs inscrições são gratuitas\, mas obrigatórias\, e devem ser realizadas até 14 de Setembro\, junto da Divisão do Ambiente da Câmara Municipal de Lousada ou pelo email biolousada@nullcm-lousada.pt.
URL:https://www.verdadeiroolhar.pt/evento/noite-dos-morcegos-no-parque-casais/
LOCATION:Parque de Casais\, Lousada
CATEGORIES:Cultura
ATTACH;FMTTYPE=image/jpeg:https://www.verdadeiroolhar.pt/wp-content/uploads/2016/08/13920347_1057969284281671_5280856989307313796_o.jpg
END:VEVENT
END:VCALENDAR