BEGIN:VCALENDAR
VERSION:2.0
PRODID:-//Verdadeiro Olhar - ECPv5.8.0//NONSGML v1.0//EN
CALSCALE:GREGORIAN
METHOD:PUBLISH
X-WR-CALNAME:Verdadeiro Olhar
X-ORIGINAL-URL:https://www.verdadeiroolhar.pt
X-WR-CALDESC:Events for Verdadeiro Olhar
BEGIN:VTIMEZONE
TZID:UTC
BEGIN:STANDARD
TZOFFSETFROM:+0000
TZOFFSETTO:+0000
TZNAME:UTC
DTSTART:20160101T000000
END:STANDARD
END:VTIMEZONE
BEGIN:VEVENT
DTSTART;TZID=UTC:20161022T163000
DTEND;TZID=UTC:20161022T183000
DTSTAMP:20260425T201756
CREATED:20161011T152443Z
LAST-MODIFIED:20161011T152443Z
UID:14290-1477153800-1477161000@www.verdadeiroolhar.pt
SUMMARY:"Música com Bebés & Papás" na Biblioteca de Paredes
DESCRIPTION:No próximo dia 22 de Outubro\, pelas 16h30\, a Biblioteca Municipal de Paredes recebe mais uma sessão de “Música com Bebés & Papás”.  \n“Fazer música com bebés & papás é antes de mais uma sessão de partilha e sociabilização. Os bebés e respectivos acompanhantes são expostos a um ambiente musical rico\, de qualidade\, variado em timbres e estilos musicais\, com vista à aquisição de um vocabulário e repertório musical”. \nA sessão será liderada pela Trupe “Sons em Cena”. A entrada custa 7\,50 euros\, para criança e um acompanhante\, e mais 2\,50 euros\, para um acompanhante extra. \nInscrições através do número 255 788 976 ou do email: biblioteca@nullcm-paredes.pt
URL:https://www.verdadeiroolhar.pt/evento/musica-bebes-papas-na-biblioteca-paredes/
LOCATION:Biblioteca Municipal de Paredes\, Praça José Guilherme\, Paredes\, 4580
CATEGORIES:Cultura
ATTACH;FMTTYPE=image/jpeg:https://www.verdadeiroolhar.pt/wp-content/uploads/2016/03/músicaparabebés_1-e1474556829826.jpg
END:VEVENT
END:VCALENDAR