BEGIN:VCALENDAR
VERSION:2.0
PRODID:-//Verdadeiro Olhar - ECPv5.8.0//NONSGML v1.0//EN
CALSCALE:GREGORIAN
METHOD:PUBLISH
X-WR-CALNAME:Verdadeiro Olhar
X-ORIGINAL-URL:https://www.verdadeiroolhar.pt
X-WR-CALDESC:Events for Verdadeiro Olhar
BEGIN:VTIMEZONE
TZID:UTC
BEGIN:STANDARD
TZOFFSETFROM:+0000
TZOFFSETTO:+0000
TZNAME:UTC
DTSTART:20170101T000000
END:STANDARD
END:VTIMEZONE
BEGIN:VEVENT
DTSTART;TZID=UTC:20170714T090000
DTEND;TZID=UTC:20170909T170000
DTSTAMP:20260422T052409
CREATED:20170711T120855Z
LAST-MODIFIED:20170711T132901Z
UID:24239-1500022800-1504976400@www.verdadeiroolhar.pt
SUMMARY:Museu Municipal do Móvel com exposição “Rota do Românico- Caminho do Encanto”
DESCRIPTION:O Museu Municipal do Móvel\, em Paços de Ferreira\, vai ter patente ao público a exposição itinerante “Rota do Românico – Caminho do Encanto” a partir de dia 14 de Julho e até 9 de Setembro. \nEstará fechada ao domingo\, segunda-feira e feriados. Nos restantes dias abre as portas das 9h00 às 12h30 e das 14h00 às 17h00. \nA mostra é composta por um conjunto de fotografias e poemas de Norberto Valério e Miguel Gomes\, respectivamente\, que remetem para o património da Rota do Românico. \nO concelho de Paços de Ferreira está representado nesta exposição (e na Rota do Românico) pelo Mosteiro de São Pedro de Ferreira.
URL:https://www.verdadeiroolhar.pt/evento/museu-municipal-do-movel-exposicao-rota-do-romanico-caminho-do-encanto/
LOCATION:Museu Municipal do Móvel\, Praça Dr. Luís\, Paços de Ferreira\, Portugal
CATEGORIES:Cultura,Eventos Públicos
ATTACH;FMTTYPE=image/jpeg:https://www.verdadeiroolhar.pt/wp-content/uploads/2017/07/Exposição-“Rota-do-Românico-Caminho-do-Encanto”.jpg
END:VEVENT
END:VCALENDAR