BEGIN:VCALENDAR
VERSION:2.0
PRODID:-//Verdadeiro Olhar - ECPv5.8.0//NONSGML v1.0//EN
CALSCALE:GREGORIAN
METHOD:PUBLISH
X-WR-CALNAME:Verdadeiro Olhar
X-ORIGINAL-URL:https://www.verdadeiroolhar.pt
X-WR-CALDESC:Events for Verdadeiro Olhar
BEGIN:VTIMEZONE
TZID:UTC
BEGIN:STANDARD
TZOFFSETFROM:+0000
TZOFFSETTO:+0000
TZNAME:UTC
DTSTART:20170101T000000
END:STANDARD
END:VTIMEZONE
BEGIN:VEVENT
DTSTART;TZID=UTC:20170824T220000
DTEND;TZID=UTC:20170824T233000
DTSTAMP:20260422T044714
CREATED:20170505T145409Z
LAST-MODIFIED:20170816T144328Z
UID:20615-1503612000-1503617400@www.verdadeiroolhar.pt
SUMMARY:Mundo Segundo & Sam The Kid na Agrival 2017
DESCRIPTION:Mundo Segundo & Sam the Kid vão estar em palco na Agrival 2017\, no dia 24 de Agosto. \n \nPrograma: \nDia do Concelho de Penafiel (S. Bartolomeu) Feira da Cebola e do Cooperativismo \n10h00 Abertura \n10h00 Concurso de “CEBOLAS”\n(com a colaboração de Técnicos da Dir. Reg. de Agricultura) \n10h00 Concurso Nacional de Canídeos “RAÇA PODENGO” \n14h30 Fórum Regional da Agricultura: Ação de sensibilização sobre prevenção de acidentes de trabalho com tratores e outras máquinas agrícolas\nOrganização: ACT de Penafiel/ Cooperativa Agricola de Penafiel\n(Auditório do Pavilhão de Feiras e Exposições)\nPalco 2 \n16h00 Entrega de Prémios “Concurso da Cebola”\n17h00 Cantares ao desafio com  “Durval e Amigos”\n18h00 Grupo de Concertinas Anatilde e Amigos de Abragão\n21h00 Grupo de Fados “Xailes e Capas”\n22h00 Rancho Folclórico S. Vicente do Pinheiro\n23h00 Grupo de Zumba do Grupo Folc. Penafiel \n00h00 Dj Residente: Miguel Tika | Dj Convidado: Kingz \nPalco 1\n22h00 Actuação de “Daniel Silva”( Puro L)\n22h30 Concerto de  “Mundo Segundo & Sam the Kid” \n24h00 Encerramento \n16.ª Mostra Nacional de Gastronomia > 12h00 à 01h30\n(entrada livre para a praça de gastronomia de 2.ª a 6.ª feira entre as 12h00 e as 14h00)
URL:https://www.verdadeiroolhar.pt/evento/mundo-segundo-sam-the-kid-na-agrival-2017/
LOCATION:Penafiel
CATEGORIES:Eventos Públicos
ATTACH;FMTTYPE=image/jpeg:https://www.verdadeiroolhar.pt/wp-content/uploads/2017/05/Mundo-Segundo.jpg
END:VEVENT
END:VCALENDAR