BEGIN:VCALENDAR
VERSION:2.0
PRODID:-//Verdadeiro Olhar - ECPv5.8.0//NONSGML v1.0//EN
CALSCALE:GREGORIAN
METHOD:PUBLISH
X-WR-CALNAME:Verdadeiro Olhar
X-ORIGINAL-URL:https://www.verdadeiroolhar.pt
X-WR-CALDESC:Events for Verdadeiro Olhar
BEGIN:VTIMEZONE
TZID:UTC
BEGIN:STANDARD
TZOFFSETFROM:+0000
TZOFFSETTO:+0000
TZNAME:UTC
DTSTART:20170101T000000
END:STANDARD
END:VTIMEZONE
BEGIN:VEVENT
DTSTART;VALUE=DATE:20170408
DTEND;VALUE=DATE:20170410
DTSTAMP:20260423T051206
CREATED:20170328T135349Z
LAST-MODIFIED:20170328T135349Z
UID:19250-1491609600-1491782399@www.verdadeiroolhar.pt
SUMMARY:"Mulheres Móveis" na A LORD
DESCRIPTION:O espectáculo “Mulheres Móveis” será realizado nos dias 8 e 9 de Abril\, pelas 21h30 e 16h00\, respectivamente\, no Auditório A LORD\, em Lordelo\, Paredes. \nAs entradas para o dia 8 de Abril serão por convite e os bilhetes para a apresentação de dia 9 estão à venda e custam três euros. \nMulheres Móveis é uma viagem documental e ficcionada pelas histórias e memórias\ndas carreteiras\, mulheres que transportavam os móveis à cabeça no concelho de\nParedes\, em tempos que já lá vão. \nUm espectáculo visual e musical que pretende homenagear as mulheres carreteiras\,\npartindo dos seus testemunhos e do contributo do imaginário do poeta italiano Tonino\nGuerra. \nMaria\, Letinha\, Justa e Sãozinha serão as últimas carreteiras\, aquelas que nos trazem o\ntestemunho de um tempo de miséria e trabalho duro\, sem prémio. \nA produção é da Astro Fingido com Dramaturgia e Encenação de Fernando Moreira.
URL:https://www.verdadeiroolhar.pt/evento/mulheres-moveis-na-lord/
LOCATION:Auditório da Fundação A LORD\, Lordelo
CATEGORIES:Cultura
ATTACH;FMTTYPE=image/jpeg:https://www.verdadeiroolhar.pt/wp-content/uploads/2017/03/mulheres-moveis_cartaz.jpg
END:VEVENT
END:VCALENDAR