BEGIN:VCALENDAR
VERSION:2.0
PRODID:-//Verdadeiro Olhar - ECPv5.8.0//NONSGML v1.0//EN
CALSCALE:GREGORIAN
METHOD:PUBLISH
X-WR-CALNAME:Verdadeiro Olhar
X-ORIGINAL-URL:https://www.verdadeiroolhar.pt
X-WR-CALDESC:Events for Verdadeiro Olhar
BEGIN:VTIMEZONE
TZID:UTC
BEGIN:STANDARD
TZOFFSETFROM:+0000
TZOFFSETTO:+0000
TZNAME:UTC
DTSTART:20170101T000000
END:STANDARD
END:VTIMEZONE
BEGIN:VEVENT
DTSTART;VALUE=DATE:20170327
DTEND;VALUE=DATE:20170521
DTSTAMP:20260423T072956
CREATED:20170327T145707Z
LAST-MODIFIED:20170327T145707Z
UID:19206-1490572800-1495324799@www.verdadeiroolhar.pt
SUMMARY:Mostra de Teatro Amador de Valongo
DESCRIPTION:Entre 27 de Março e 20 de Maio\, decorre a Mostra de Teatro Amador de Valongo 2017. \nA iniciativa vai decorrer no Fórum Cultural de Ermesinde e na Sala das Artes do Fórum Vallis Longus. \nOs espectáculos de abertura e encerramento são de entrada gratuita. Para todos os outros o custo é de 2\,5 euros.
URL:https://www.verdadeiroolhar.pt/evento/mostra-teatro-amador-valongo/
LOCATION:Valongo\, Valongo
CATEGORIES:Cultura
ATTACH;FMTTYPE=image/jpeg:https://www.verdadeiroolhar.pt/wp-content/uploads/2017/03/MTA_2017_-_Cartaz.jpg
END:VEVENT
END:VCALENDAR