BEGIN:VCALENDAR
VERSION:2.0
PRODID:-//Verdadeiro Olhar - ECPv5.8.0//NONSGML v1.0//EN
CALSCALE:GREGORIAN
METHOD:PUBLISH
X-WR-CALNAME:Verdadeiro Olhar
X-ORIGINAL-URL:https://www.verdadeiroolhar.pt
X-WR-CALDESC:Events for Verdadeiro Olhar
BEGIN:VTIMEZONE
TZID:UTC
BEGIN:STANDARD
TZOFFSETFROM:+0000
TZOFFSETTO:+0000
TZNAME:UTC
DTSTART:20170101T000000
END:STANDARD
END:VTIMEZONE
BEGIN:VEVENT
DTSTART;VALUE=DATE:20170721
DTEND;VALUE=DATE:20170801
DTSTAMP:20260422T223228
CREATED:20170714T152335Z
LAST-MODIFIED:20170714T152335Z
UID:24580-1500595200-1501545599@www.verdadeiroolhar.pt
SUMMARY:Mia Rose\, Cuca Roseta e Tiago Bettencourt nas Festas da Cidade de Lordelo
DESCRIPTION:De 21 a 31 de Julho decorrem as Festas da Cidade de Lordelo 2017\, com um vasto conjunto de actividades e espectáculos musicais. \nDestaque para as actuações de Sons do Minho\, The Fucking Bastards\, Mia Rosa\, Paulo Sousa\, Tiago Bettencourt e Cuca Roseta.
URL:https://www.verdadeiroolhar.pt/evento/mia-rose-cuca-roseta-tiago-bettencourt-nas-festas-da-cidade-lordelo/
LOCATION:Lordelo\, Lordelo\, Paredes
CATEGORIES:Eventos Públicos
ATTACH;FMTTYPE=image/jpeg:https://www.verdadeiroolhar.pt/wp-content/uploads/2017/07/20106610_10203563638807545_5241531347176806266_n.jpg
END:VEVENT
END:VCALENDAR