BEGIN:VCALENDAR
VERSION:2.0
PRODID:-//Verdadeiro Olhar - ECPv5.8.0//NONSGML v1.0//EN
CALSCALE:GREGORIAN
METHOD:PUBLISH
X-WR-CALNAME:Verdadeiro Olhar
X-ORIGINAL-URL:https://www.verdadeiroolhar.pt
X-WR-CALDESC:Events for Verdadeiro Olhar
BEGIN:VTIMEZONE
TZID:UTC
BEGIN:STANDARD
TZOFFSETFROM:+0000
TZOFFSETTO:+0000
TZNAME:UTC
DTSTART:20180101T000000
END:STANDARD
END:VTIMEZONE
BEGIN:VEVENT
DTSTART;VALUE=DATE:20180531
DTEND;VALUE=DATE:20180604
DTSTAMP:20260425T142427
CREATED:20180327T135014Z
LAST-MODIFIED:20180327T135014Z
UID:37756-1527724800-1528070399@www.verdadeiroolhar.pt
SUMMARY:Mercado Histórico de Lousada
DESCRIPTION:Entre 31 de Maio e 3 de Junho\, a Avenida do Senhor dos Aflitos\, em Lousada\, volta a receber o Mercado Histórico\, com crianças e adultos a poderem vivenciar uma recriação histórica do século XVII. \nVai haver cortejos\, animação permanente com artes circenses\, música\, dança\, teatro\, demonstrações de armas e esgrima e estarão presentes oficinas que retratam os artesãos da época\, entre outros.
URL:https://www.verdadeiroolhar.pt/evento/mercado-historico-lousada/
LOCATION:Avenida do Senhor dos Aflitos\, Avenida do Senhor dos Aflitos\, Lousada\, Portugal
CATEGORIES:Eventos Públicos
ATTACH;FMTTYPE=image/jpeg:https://www.verdadeiroolhar.pt/wp-content/uploads/2017/06/Mercado-Histórico-2016-60.jpg
END:VEVENT
END:VCALENDAR