BEGIN:VCALENDAR
VERSION:2.0
PRODID:-//Verdadeiro Olhar - ECPv5.8.0//NONSGML v1.0//EN
CALSCALE:GREGORIAN
METHOD:PUBLISH
X-WR-CALNAME:Verdadeiro Olhar
X-ORIGINAL-URL:https://www.verdadeiroolhar.pt
X-WR-CALDESC:Events for Verdadeiro Olhar
BEGIN:VTIMEZONE
TZID:UTC
BEGIN:STANDARD
TZOFFSETFROM:+0000
TZOFFSETTO:+0000
TZNAME:UTC
DTSTART:20170101T000000
END:STANDARD
END:VTIMEZONE
BEGIN:VEVENT
DTSTART;VALUE=DATE:20170710
DTEND;VALUE=DATE:20170711
DTSTAMP:20260422T005035
CREATED:20170609T143620Z
LAST-MODIFIED:20170609T143620Z
UID:22418-1499644800-1499731199@www.verdadeiroolhar.pt
SUMMARY:Marcha Alegórica nas Sebastianas 2017
DESCRIPTION:O Cortejo Alegórico e Luminoso\, agora designado de Marcha Alegórica\, tem desde gigantones e cabeçudos\, grupos de samba\, artes de circenses e grupos de animação… e muitos grupos de bombos com folia. Mas o maior atractivo são os carros alegóricos\, totalmente feitos localmente\, por grupos de voluntários e amigos das festas. \nEste é o evento que marca a segunda-feira\, dia 10 de Julho\, na programação das Sebastianas 2017\, em Freamunde\, Paços de Ferreira. \nAs Sebastianas são as festas da cidade de Freamunde\, celebradas em honra de São Sebastião. Trata-se de uma festa\, misto de sagrado e profano\, com mais de 115 anos de história\, e com uma alargada programação cultural que todos os anos atrai milhares de pessoas a Freamunde. \nSaiba mais em: http://www.sebastianas.com/
URL:https://www.verdadeiroolhar.pt/evento/marcha-alegorica-nas-sebastianas-2017/
LOCATION:Freamunde\, Freamunde\, Paços de Ferreira
CATEGORIES:Cultura,Eventos Públicos
ATTACH;FMTTYPE=image/png:https://www.verdadeiroolhar.pt/wp-content/uploads/2017/06/sbt17_0710_680x260_v01.png
END:VEVENT
END:VCALENDAR