BEGIN:VCALENDAR
VERSION:2.0
PRODID:-//Verdadeiro Olhar - ECPv5.8.0//NONSGML v1.0//EN
CALSCALE:GREGORIAN
METHOD:PUBLISH
X-WR-CALNAME:Verdadeiro Olhar
X-ORIGINAL-URL:https://www.verdadeiroolhar.pt
X-WR-CALDESC:Events for Verdadeiro Olhar
BEGIN:VTIMEZONE
TZID:UTC
BEGIN:STANDARD
TZOFFSETFROM:+0000
TZOFFSETTO:+0000
TZNAME:UTC
DTSTART:20160101T000000
END:STANDARD
END:VTIMEZONE
BEGIN:VEVENT
DTSTART;VALUE=DATE:20160624
DTEND;VALUE=DATE:20160625
DTSTAMP:20260421T095641
CREATED:20160613T170307Z
LAST-MODIFIED:20160622T134822Z
UID:10056-1466726400-1466812799@www.verdadeiroolhar.pt
SUMMARY:Maratona de Jogos em Lousada
DESCRIPTION:No dia 24 de Junho\, o Parque Urbano Dr. Mário Fonseca vai receber uma maratona de jogos\, no âmbito do dia Olímpico. \nO município aconselha levar chapéu e água.
URL:https://www.verdadeiroolhar.pt/evento/maratona-jogos-lousada/
LOCATION:Parque Urbano Dr. Mário Fonseca\, Avenida Amílcar Neto\, Lousada
CATEGORIES:Desporto,Eventos Públicos
ATTACH;FMTTYPE=image/jpeg:https://www.verdadeiroolhar.pt/wp-content/uploads/2016/06/parqueurbanolousada.jpg
END:VEVENT
END:VCALENDAR