BEGIN:VCALENDAR
VERSION:2.0
PRODID:-//Verdadeiro Olhar - ECPv5.8.0//NONSGML v1.0//EN
CALSCALE:GREGORIAN
METHOD:PUBLISH
X-WR-CALNAME:Verdadeiro Olhar
X-ORIGINAL-URL:https://www.verdadeiroolhar.pt
X-WR-CALDESC:Events for Verdadeiro Olhar
BEGIN:VTIMEZONE
TZID:UTC
BEGIN:STANDARD
TZOFFSETFROM:+0000
TZOFFSETTO:+0000
TZNAME:UTC
DTSTART:20160101T000000
END:STANDARD
END:VTIMEZONE
BEGIN:VEVENT
DTSTART;TZID=UTC:20160706T143000
DTEND;TZID=UTC:20160706T160000
DTSTAMP:20260422T170308
CREATED:20160701T105210Z
LAST-MODIFIED:20160701T105210Z
UID:10894-1467815400-1467820800@www.verdadeiroolhar.pt
SUMMARY:Madagáscar 3 na Biblioteca de Penafiel
DESCRIPTION:No dia 6 de Julho\, quarta-feira\, o Auditório da Biblioteca Municipal de Penafiel vai ter em exibição o filme de animação “Madagáscar 3”. \nO filme\,falado em português\, começa às 14h30 e terá a duração de 89 minutos. \nA participação nesta actividade está sujeita a marcação prévia.
URL:https://www.verdadeiroolhar.pt/evento/madagascar-3-na-biblioteca-penafiel/
LOCATION:Biblioteca Municipal de Penafiel\, Avenida Egas Moniz\, Penafiel\, Portugal
CATEGORIES:Cultura,Eventos Públicos
ATTACH;FMTTYPE=image/jpeg:https://www.verdadeiroolhar.pt/wp-content/uploads/2016/07/Madagascar-3-e1467369870393.jpg
END:VEVENT
END:VCALENDAR