BEGIN:VCALENDAR
VERSION:2.0
PRODID:-//Verdadeiro Olhar - ECPv5.8.0//NONSGML v1.0//EN
CALSCALE:GREGORIAN
METHOD:PUBLISH
X-WR-CALNAME:Verdadeiro Olhar
X-ORIGINAL-URL:https://www.verdadeiroolhar.pt
X-WR-CALDESC:Events for Verdadeiro Olhar
BEGIN:VTIMEZONE
TZID:UTC
BEGIN:STANDARD
TZOFFSETFROM:+0000
TZOFFSETTO:+0000
TZNAME:UTC
DTSTART:20180101T000000
END:STANDARD
END:VTIMEZONE
BEGIN:VEVENT
DTSTART;VALUE=DATE:20180421
DTEND;VALUE=DATE:20180429
DTSTAMP:20260424T034507
CREATED:20180327T114754Z
LAST-MODIFIED:20180327T114754Z
UID:37736-1524268800-1524959999@www.verdadeiroolhar.pt
SUMMARY:Lousada: FOLIA 2018 regressa de 21 a 28 de Abril
DESCRIPTION:Já é conhecido o cartaz do FOLIA – Festival Internacional de Artes do Espectáculo de Lousada\, que decorre de 21 a 28 de Abril\, no Auditório Municipal. \nA abertura é feita pela nova peça da Jangada teatro. Passam pelo certame ainda a Companhia de Teatro do Chapitô\, o teatro do Montemuro\, a Astro Fingido\, os Commedia à la Carte\, Joseph Cellard e haverá um concerto de Sara Tavares. \nOs bilhetes já estão à venda no Auditório Municipal de Lousada\, na ticketline.pt e nas plataformas aderentes.
URL:https://www.verdadeiroolhar.pt/evento/lousada-folia-2018-regressa-de-21-a-28-de-abril/
LOCATION:Auditório Municipal de Lousada\, Qtª das Pocinhas\, Lousada\, 4620-674\, Portugal
CATEGORIES:Cultura
ATTACH;FMTTYPE=image/jpeg:https://www.verdadeiroolhar.pt/wp-content/uploads/2018/03/FOLIA-2018.jpg
END:VEVENT
END:VCALENDAR