BEGIN:VCALENDAR
VERSION:2.0
PRODID:-//Verdadeiro Olhar - ECPv5.8.0//NONSGML v1.0//EN
CALSCALE:GREGORIAN
METHOD:PUBLISH
X-WR-CALNAME:Verdadeiro Olhar
X-ORIGINAL-URL:https://www.verdadeiroolhar.pt
X-WR-CALDESC:Events for Verdadeiro Olhar
BEGIN:VTIMEZONE
TZID:UTC
BEGIN:STANDARD
TZOFFSETFROM:+0000
TZOFFSETTO:+0000
TZNAME:UTC
DTSTART:20170101T000000
END:STANDARD
END:VTIMEZONE
BEGIN:VEVENT
DTSTART;VALUE=DATE:20170804
DTEND;VALUE=DATE:20170806
DTSTAMP:20260422T233101
CREATED:20170714T150754Z
LAST-MODIFIED:20170714T150754Z
UID:24567-1501804800-1501977599@www.verdadeiroolhar.pt
SUMMARY:Lordelo Metal Fest
DESCRIPTION:A 4 e 5 de Agosto decorre no Parque do Rio Ferreira em Lordelo\, Paredes\, o Lordelo Metal Fest. \nA entrada é livre e o campismo gratuito. \n 
URL:https://www.verdadeiroolhar.pt/evento/lordelo-metal-fest/
LOCATION:Lordelo\, Lordelo\, Paredes
CATEGORIES:Eventos Públicos
ATTACH;FMTTYPE=image/jpeg:https://www.verdadeiroolhar.pt/wp-content/uploads/2017/07/19905445_10203561623117154_4197382758715604248_n.jpg
END:VEVENT
END:VCALENDAR