BEGIN:VCALENDAR
VERSION:2.0
PRODID:-//Verdadeiro Olhar - ECPv5.8.0//NONSGML v1.0//EN
CALSCALE:GREGORIAN
METHOD:PUBLISH
X-WR-CALNAME:Verdadeiro Olhar
X-ORIGINAL-URL:https://www.verdadeiroolhar.pt
X-WR-CALDESC:Events for Verdadeiro Olhar
BEGIN:VTIMEZONE
TZID:UTC
BEGIN:STANDARD
TZOFFSETFROM:+0000
TZOFFSETTO:+0000
TZNAME:UTC
DTSTART:20180101T000000
END:STANDARD
END:VTIMEZONE
BEGIN:VEVENT
DTSTART;TZID=UTC:20180127T150000
DTEND;TZID=UTC:20180127T170000
DTSTAMP:20260421T214617
CREATED:20180103T162511Z
LAST-MODIFIED:20180118T161232Z
UID:33083-1517065200-1517072400@www.verdadeiroolhar.pt
SUMMARY:Livro “Triângulo de Guerra” apresentado na Biblioteca de Penafiel
DESCRIPTION:No dia 27 de Janeiro\, pelas 15h00\, a Biblioteca Municipal de Penafiel recebe o lançamento do livro “Triângulo de Guerra”\, de Cecília Beça. \nTrata-se do primeiro romance da autora e conta a história de uma jovem portuguesa Sara\, de Jamal e da sua filha Yarin\, refugiados de guerra do Curdistão. \nA entrada é livre.
URL:https://www.verdadeiroolhar.pt/evento/livro-triangulo-de-guerra-apresentado-na-biblioteca-de-penafiel/
LOCATION:Biblioteca Municipal de Penafiel\, Avenida Egas Moniz\, Penafiel\, Portugal
CATEGORIES:Cultura
ATTACH;FMTTYPE=image/png:https://www.verdadeiroolhar.pt/wp-content/uploads/2018/01/TrianguloGuerra.png
END:VEVENT
END:VCALENDAR