BEGIN:VCALENDAR
VERSION:2.0
PRODID:-//Verdadeiro Olhar - ECPv5.8.0//NONSGML v1.0//EN
CALSCALE:GREGORIAN
METHOD:PUBLISH
X-WR-CALNAME:Verdadeiro Olhar
X-ORIGINAL-URL:https://www.verdadeiroolhar.pt
X-WR-CALDESC:Events for Verdadeiro Olhar
BEGIN:VTIMEZONE
TZID:UTC
BEGIN:STANDARD
TZOFFSETFROM:+0000
TZOFFSETTO:+0000
TZNAME:UTC
DTSTART:20170101T000000
END:STANDARD
END:VTIMEZONE
BEGIN:VEVENT
DTSTART;TZID=UTC:20170407T180000
DTEND;TZID=UTC:20170407T190000
DTSTAMP:20260423T021459
CREATED:20170330T162337Z
LAST-MODIFIED:20170330T162337Z
UID:19417-1491588000-1491591600@www.verdadeiroolhar.pt
SUMMARY:Livro “Pedro e o Lobo” apresentado
DESCRIPTION:No dia 7 de Abril\, pelas 18h00\, a Biblioteca Municipal de Lousada será palco da apresentação do Livro “Pedro e o Lobo”. \nTrata-se de um livro que nasce em parceria entre a Jangada teatro\, a Câmara Municipal e o grupo Lobo\, vertendo para livro o espectáculo de palco.
URL:https://www.verdadeiroolhar.pt/evento/livro-pedro-lobo-apresentado/
LOCATION:Biblioteca Municipal de Lousada\, Lousada
CATEGORIES:Cultura
ATTACH;FMTTYPE=image/jpeg:https://www.verdadeiroolhar.pt/wp-content/uploads/2017/03/Pedro-e-lobo.jpg
END:VEVENT
END:VCALENDAR