BEGIN:VCALENDAR
VERSION:2.0
PRODID:-//Verdadeiro Olhar - ECPv5.8.0//NONSGML v1.0//EN
CALSCALE:GREGORIAN
METHOD:PUBLISH
X-WR-CALNAME:Verdadeiro Olhar
X-ORIGINAL-URL:https://www.verdadeiroolhar.pt
X-WR-CALDESC:Events for Verdadeiro Olhar
BEGIN:VTIMEZONE
TZID:UTC
BEGIN:STANDARD
TZOFFSETFROM:+0000
TZOFFSETTO:+0000
TZNAME:UTC
DTSTART:20180101T000000
END:STANDARD
END:VTIMEZONE
BEGIN:VEVENT
DTSTART;TZID=UTC:20180119T213000
DTEND;TZID=UTC:20180119T230000
DTSTAMP:20260422T104816
CREATED:20180116T115817Z
LAST-MODIFIED:20180116T115817Z
UID:33678-1516397400-1516402800@www.verdadeiroolhar.pt
SUMMARY:Livro "Opúsculos e Prefácios" apresentado na Biblioteca de Penafiel
DESCRIPTION:No dia 19 de Janeiro\, pelas 21h00\, o auditório da Biblioteca Municipal de Penafiel acolhe a apresentação do livro “Opúsculos e Prefácios”\, de Joaquim de Araújo. \nA iniciativa decorre no âmbito das comemorações do centenário da morte de Joaquim de Araújo\, e é promovida pela Câmara Municipal de Penafiel e pelo Agrupamento de Escolas Joaquim de Araújo. \nA apresentação da obra estará a cargo de Paulo Samuel\, coordenador e organizador da edição\, com intervenções de Amélia Maia\, investigadora do acervo documental do autor. \nDurante a apresentação haverá lugar à leitura de poemas por alunos do Agrupamento.
URL:https://www.verdadeiroolhar.pt/evento/livro-opusculos-prefacios-apresentado-na-biblioteca-penafiel/
LOCATION:Biblioteca Municipal de Penafiel\, Avenida Egas Moniz\, Penafiel\, Portugal
CATEGORIES:Cultura
ATTACH;FMTTYPE=image/jpeg:https://www.verdadeiroolhar.pt/wp-content/uploads/2018/01/OpusculosPrefacios.jpg
END:VEVENT
END:VCALENDAR