BEGIN:VCALENDAR
VERSION:2.0
PRODID:-//Verdadeiro Olhar - ECPv5.8.0//NONSGML v1.0//EN
CALSCALE:GREGORIAN
METHOD:PUBLISH
X-WR-CALNAME:Verdadeiro Olhar
X-ORIGINAL-URL:https://www.verdadeiroolhar.pt
X-WR-CALDESC:Events for Verdadeiro Olhar
BEGIN:VTIMEZONE
TZID:UTC
BEGIN:STANDARD
TZOFFSETFROM:+0000
TZOFFSETTO:+0000
TZNAME:UTC
DTSTART:20180101T000000
END:STANDARD
END:VTIMEZONE
BEGIN:VEVENT
DTSTART;TZID=UTC:20180527T090000
DTEND;TZID=UTC:20180527T120000
DTSTAMP:20260425T104537
CREATED:20180515T105219Z
LAST-MODIFIED:20180515T105235Z
UID:40975-1527411600-1527422400@www.verdadeiroolhar.pt
SUMMARY:Liga para a Inclusão Social promove caminhada solidária
DESCRIPTION:A Liga para a Inclusão Social\, da qual a ADICE\, instituição de Ermesinde\, e o Estabelecimento Prisional de Paços de Ferreira fazem parte\, dinamiza\, no dia 27 de Maio\, no Parque da Cidade do Porto\, a 1.ª Caminhada Liga + Social. \n“Dar a conhecer à comunidade em geral o projecto desta parceria interinstitucional\, desenvolvido solidariamente\, desde o início de 2009\, por mais de duas dezenas de Instituições Públicas e Privadas da zona Norte do nosso país\, é o objectivo. As receitas arrecadadas serão aplicadas nos diversos projectos que a Liga para a Inclusão Social desenvolve”\, diz nota de imprensa. \n \nO objectivo desta plataforma é contribuir para a inclusão social de pessoas excluídas ou em risco de exclusão\, através da organização\, desenvolvimento\, implementação e promoção de Projectos de Inclusão Social em diferentes âmbitos\, como Desporto (Futsal e Caminhada)\, Música (Som da Rua)\, Dança\, Artes Plásticas (Exposições sobre Exclusão Social)\, Teatro (“Toma lá flor” e “O’Preta dos Lusíadas”). \nA caminhada tem um percurso de cinco quilómetros e a inscrição\, que pode ser realizada aqui\, custa cinco euros.
URL:https://www.verdadeiroolhar.pt/evento/liga-inclusao-social-promove-caminhada-solidaria/
LOCATION:Porto
CATEGORIES:Eventos Públicos
ATTACH;FMTTYPE=image/png:https://www.verdadeiroolhar.pt/wp-content/uploads/2018/05/Liga-solidária.png
END:VEVENT
END:VCALENDAR