BEGIN:VCALENDAR
VERSION:2.0
PRODID:-//Verdadeiro Olhar - ECPv5.8.0//NONSGML v1.0//EN
CALSCALE:GREGORIAN
METHOD:PUBLISH
X-WR-CALNAME:Verdadeiro Olhar
X-ORIGINAL-URL:https://www.verdadeiroolhar.pt
X-WR-CALDESC:Events for Verdadeiro Olhar
BEGIN:VTIMEZONE
TZID:UTC
BEGIN:STANDARD
TZOFFSETFROM:+0000
TZOFFSETTO:+0000
TZNAME:UTC
DTSTART:20180101T000000
END:STANDARD
END:VTIMEZONE
BEGIN:VEVENT
DTSTART;TZID=UTC:20180425T150000
DTEND;TZID=UTC:20180425T180000
DTSTAMP:20260424T074153
CREATED:20180423T101959Z
LAST-MODIFIED:20180423T101959Z
UID:39665-1524668400-1524679200@www.verdadeiroolhar.pt
SUMMARY:JS Penafiel organiza "Cantar a Liberdade"
DESCRIPTION:A Juventude Socialista organiza a iniciativa “Cantar a Liberdade”\, no dia 25 de Abril\, entre as 15h00 e as 18h00\, no Largo da Ajuda\, Penafiel.
URL:https://www.verdadeiroolhar.pt/evento/js-penafiel-organiza-cantar-liberdade/
LOCATION:Penafiel
CATEGORIES:Eventos Públicos
ATTACH;FMTTYPE=image/jpeg:https://www.verdadeiroolhar.pt/wp-content/uploads/2018/04/Cantar-Liberdade.jpg
END:VEVENT
END:VCALENDAR