BEGIN:VCALENDAR
VERSION:2.0
PRODID:-//Verdadeiro Olhar - ECPv5.8.0//NONSGML v1.0//EN
CALSCALE:GREGORIAN
METHOD:PUBLISH
X-WR-CALNAME:Verdadeiro Olhar
X-ORIGINAL-URL:https://www.verdadeiroolhar.pt
X-WR-CALDESC:Events for Verdadeiro Olhar
BEGIN:VTIMEZONE
TZID:UTC
BEGIN:STANDARD
TZOFFSETFROM:+0000
TZOFFSETTO:+0000
TZNAME:UTC
DTSTART:20160101T000000
END:STANDARD
END:VTIMEZONE
BEGIN:VEVENT
DTSTART;TZID=UTC:20160110T140000
DTEND;TZID=UTC:20160110T170000
DTSTAMP:20260425T181031
CREATED:20151214T161850Z
LAST-MODIFIED:20160106T183020Z
UID:2854-1452434400-1452445200@www.verdadeiroolhar.pt
SUMMARY:Janeiras\, encontro de cantares
DESCRIPTION:À semelhança dos anos anteriores\, o Pelouro da Cultura da Câmara Municipal de Penafiel vai organizar o tradicional Encontro de Cantares de Janeiras. O “Encontro” realiza-se no próximo dia 10 de Janeiro\, no Pavilhão de Feiras e Exposições de Penafiel\, a partir das 14h00\, e tem como objectivo acolher os grupos e as colectividades do município de Penafiel. \n 
URL:https://www.verdadeiroolhar.pt/evento/janeiras-encontro-de-cantares/
LOCATION:Pavilhão de Feiras e Exposições\, Rua D. António Ferreira Gomes\, Penafiel\, 4560-568
CATEGORIES:Cultura
END:VEVENT
END:VCALENDAR