BEGIN:VCALENDAR
VERSION:2.0
PRODID:-//Verdadeiro Olhar - ECPv5.8.0//NONSGML v1.0//EN
CALSCALE:GREGORIAN
METHOD:PUBLISH
X-WR-CALNAME:Verdadeiro Olhar
X-ORIGINAL-URL:https://www.verdadeiroolhar.pt
X-WR-CALDESC:Events for Verdadeiro Olhar
BEGIN:VTIMEZONE
TZID:UTC
BEGIN:STANDARD
TZOFFSETFROM:+0000
TZOFFSETTO:+0000
TZNAME:UTC
DTSTART:20160101T000000
END:STANDARD
END:VTIMEZONE
BEGIN:VEVENT
DTSTART;TZID=UTC:20160110T143000
DTEND;TZID=UTC:20160110T170000
DTSTAMP:20260425T192039
CREATED:20160106T153220Z
LAST-MODIFIED:20160106T183051Z
UID:3443-1452436200-1452445200@www.verdadeiroolhar.pt
SUMMARY:Internet: é bom saber como usar a Internet
DESCRIPTION:Cyberbulling.\nActividade pedagógica sobre a Internet dirigida a alunos do 2º ciclo.
URL:https://www.verdadeiroolhar.pt/evento/internet-e-bom-saber-como-usar-a-internet/
LOCATION:Biblioteca Municipal de Lousada\, Lousada
CATEGORIES:Cultura
END:VEVENT
END:VCALENDAR