BEGIN:VCALENDAR
VERSION:2.0
PRODID:-//Verdadeiro Olhar - ECPv5.8.0//NONSGML v1.0//EN
CALSCALE:GREGORIAN
METHOD:PUBLISH
X-WR-CALNAME:Verdadeiro Olhar
X-ORIGINAL-URL:https://www.verdadeiroolhar.pt
X-WR-CALDESC:Events for Verdadeiro Olhar
BEGIN:VTIMEZONE
TZID:UTC
BEGIN:STANDARD
TZOFFSETFROM:+0000
TZOFFSETTO:+0000
TZNAME:UTC
DTSTART:20170101T000000
END:STANDARD
END:VTIMEZONE
BEGIN:VEVENT
DTSTART;VALUE=DATE:20170716
DTEND;VALUE=DATE:20170717
DTSTAMP:20260422T140937
CREATED:20170710T135814Z
LAST-MODIFIED:20170710T135814Z
UID:24091-1500163200-1500249599@www.verdadeiroolhar.pt
SUMMARY:II Trail Rota dos Móveis
DESCRIPTION:  \nNo sábado\, dia 16\, Lordelo acolhe o II Trail Rota dos Móveis com uma caminhada de 10 quilómetros\, um circuito de 15 e outro de 25 quilómetros\, a partir das 9h00. \nO trail Longo\, com cerca de 25 quilómetros e o mini trail com cerca de 15 quilómetros é destinado a atletas federados e não federados nascidos em 1999 e anteriores e tem fins competitivos. A caminhada com uma distância de aproximadamente 10 quilómetros é destinada a todas as classes etárias e sem fins competitivos. \n 
URL:https://www.verdadeiroolhar.pt/evento/ii-trail-rota-dos-moveis/
ATTACH;FMTTYPE=image/jpeg:https://www.verdadeiroolhar.pt/wp-content/uploads/2017/07/II-Trail-Rota-dos-Móveis.jpg
END:VEVENT
END:VCALENDAR