BEGIN:VCALENDAR
VERSION:2.0
PRODID:-//Verdadeiro Olhar - ECPv5.8.0//NONSGML v1.0//EN
CALSCALE:GREGORIAN
METHOD:PUBLISH
X-WR-CALNAME:Verdadeiro Olhar
X-ORIGINAL-URL:https://www.verdadeiroolhar.pt
X-WR-CALDESC:Events for Verdadeiro Olhar
BEGIN:VTIMEZONE
TZID:UTC
BEGIN:STANDARD
TZOFFSETFROM:+0000
TZOFFSETTO:+0000
TZNAME:UTC
DTSTART:20180101T000000
END:STANDARD
END:VTIMEZONE
BEGIN:VEVENT
DTSTART;TZID=UTC:20180310T093000
DTEND;TZID=UTC:20180310T180000
DTSTAMP:20260421T195201
CREATED:20180306T160743Z
LAST-MODIFIED:20180306T163128Z
UID:36386-1520674200-1520704800@www.verdadeiroolhar.pt
SUMMARY:II Seminário Penafiel e os Penafidelenses na História
DESCRIPTION:Decorre\, no dia 10 de Março\, pelas 9h30\, no auditório do Museu Municipal de Penafiel\, o II Seminário: Penafiel e os Penafidelenses na História. \nA organização é dos Amigos do Arquivo de Penafiel com o apoio da Câmara Municipal. A inscrição é gratuita mais obrigatória e deve ser efectuada através do email amigosdoarquivo.penafiel@nullgmail.com ou do telefone 255 710 700. \n\nPrograma: \n09h15-Entrega da documentação \n09h30-Sessão de abertura \nI Painel \nModerador: Dr.ª Adelaide Galhardo\n09h45 – Padre Manuel António dos Santos Carvalho Mendes – Para uma biografia de D. Manuel Luís Coelho da Silva\, Bispo de Coimbra – esboço de uma cronologia\n10h05 – Doutor Adrião Cunha – Exílio e exilados políticos portugueses no período do Estado Novo – “o caso D. António Ferreira Gomes”\n10h25 – Dr. Vasco Santos – Arquivos de Família: dos modelos teóricos ao trabalho prático – o exemplo do fundo de Cabanelas \n10h45 – Debate\n11h00 – Coffee break\n \nII Painel\nModerador: Doutor António do Fundo\n11h15 – Dr.ª Alda Neto – Brasileiros do Vale de Sousa: o caso e as casas de Penafiel\n11h35 – Doutor Hugo José Pereira – Entre o centro e a periferia: representações e realizações do caminho-de-ferro em Penafiel\n11h55 – Doutora Marta Vieira – Vida e Morte na Comunidade Beneditina do Mosteiro do Salvador de Paço de Sousa (1625-1826) – Um projecto de mediação patrimonial\n12h15 – Debate \n12h30 – Almoço \nIII Painel\nModerador: Doutora Sofia Fernandes\n14h30 – Sara Camilo – Costumes e Tradições Orais da freguesia de Boelhe no séc. XX – Construção de um Arquivo Oral\n14h50 – Doutor Joaquim Costa – Mafalda Sanchez por Terras de Penafiel\n15h10 – Doutora Alicia Miguélez – O Túmulo de Egas Moniz\n15h30 –Debate \n15h45 – Coffee break \nIV Painel\nModerador: Dr.ª Maria José Santos\n16h15 – Dr.ª Filipa Cortesão Silva e Doutora Ana Luísa Santos – A necrópole romana de Monteiras (Bustelo\, Penafiel): contributo da análise antropológica\n16h35 – Doutor Hugo Aluai Sampaio e Dr.ª Helena Bernardo – Práticas e contextos funerários da Idade do Bronze na bacia do rio Sousa: a necrópole de Montes Novos (Croca\, Penafiel)\n16h55 – Doutor Hugo Pires – Desvendando os segredos da Estela de Capela: novas tecnologias aplicadas ao património cultural\n17h15 – Debate\n17h30 – Sessão de encerramento \n 
URL:https://www.verdadeiroolhar.pt/evento/ii-seminario-penafiel-os-penafidelenses-na-historia/
LOCATION:Museu Municipal de Penafiel\, R. do Paço\, Penafiel\, 4560-485\, Portugal
CATEGORIES:Cultura,Eventos Públicos
ATTACH;FMTTYPE=image/jpeg:https://www.verdadeiroolhar.pt/wp-content/uploads/2018/03/IISeminarioPenafielPenafidelenses1.jpg
END:VEVENT
END:VCALENDAR