BEGIN:VCALENDAR
VERSION:2.0
PRODID:-//Verdadeiro Olhar - ECPv5.8.0//NONSGML v1.0//EN
CALSCALE:GREGORIAN
METHOD:PUBLISH
X-WR-CALNAME:Verdadeiro Olhar
X-ORIGINAL-URL:https://www.verdadeiroolhar.pt
X-WR-CALDESC:Events for Verdadeiro Olhar
BEGIN:VTIMEZONE
TZID:UTC
BEGIN:STANDARD
TZOFFSETFROM:+0000
TZOFFSETTO:+0000
TZNAME:UTC
DTSTART:20160101T000000
END:STANDARD
END:VTIMEZONE
BEGIN:VEVENT
DTSTART;TZID=UTC:20161015T213000
DTEND;TZID=UTC:20161015T235500
DTSTAMP:20260425T152311
CREATED:20161006T120812Z
LAST-MODIFIED:20161006T120812Z
UID:14110-1476567000-1476575700@www.verdadeiroolhar.pt
SUMMARY:Grupo de Alfena organiza desfolhada
DESCRIPTION:O Grupo de Danças e Cantares de Alfena realiza\, no dia 15 de Outubro\, pelas 21h30\, uma Desfolhada Tradicional. \nO palco será o Espaço Multiusos de Alfena (Recinto da Feira)\, na Rua de São Vicente\, sob o viaduto da A41. \nA entrada é livre e haverá petiscos tradicionais.
URL:https://www.verdadeiroolhar.pt/evento/grupo-alfena-organiza-desfolhada/
LOCATION:Espaço Multiusos de Alfena\, Rua de São Vicente\, Alfena
CATEGORIES:Cultura,Eventos Públicos
ATTACH;FMTTYPE=image/jpeg:https://www.verdadeiroolhar.pt/wp-content/uploads/2016/10/Desfolhada-GDCA-e1475756608867.jpg
END:VEVENT
END:VCALENDAR