BEGIN:VCALENDAR
VERSION:2.0
PRODID:-//Verdadeiro Olhar - ECPv5.8.0//NONSGML v1.0//EN
CALSCALE:GREGORIAN
METHOD:PUBLISH
X-WR-CALNAME:Verdadeiro Olhar
X-ORIGINAL-URL:https://www.verdadeiroolhar.pt
X-WR-CALDESC:Events for Verdadeiro Olhar
BEGIN:VTIMEZONE
TZID:UTC
BEGIN:STANDARD
TZOFFSETFROM:+0000
TZOFFSETTO:+0000
TZNAME:UTC
DTSTART:20180101T000000
END:STANDARD
END:VTIMEZONE
BEGIN:VEVENT
DTSTART;TZID=UTC:20180113T213000
DTEND;TZID=UTC:20180113T233000
DTSTAMP:20260422T153202
CREATED:20180110T151433Z
LAST-MODIFIED:20180110T151433Z
UID:33405-1515879000-1515886200@www.verdadeiroolhar.pt
SUMMARY:Gambuzinos na Casa do Xiné
DESCRIPTION:No próximo dia 13 de Janeiro o Centro Cultural Casa do Xiné\, em Lagares\, recebe mais um espectáculo no âmbito da iniciativa “O Xiné dá-lhe música”. \nDesta vez\, pelas 21h30\, sobem ao palco os Gambuzinos. Trata-se de um grupo de interpretação criativa e original de música antiga\, em especial dos períodos medieval\, renascentista e barroco. O grupo compõe a sua música a partir de cancioneiros históricos e faz uso de instrumentos musicais que são reproduções mais ou menos evoluídas dos instrumentos que foram populares nas épocas abordadas: gaitas-de-fole\, charamelas\, cromórnias\, flautas doces\, binário de flauta e tamboril\, alaúde\, dulcimer\, caixa de guerra\, bombo\, darbuka\, pandeiros e percussões variadas de uso arcaico e popular. \nIncluem no seu repertório diversos temas cantados em galaico-português\, latim bárbaro e versões antigas de outras línguas europeias\, indo beber às fontes dos trovadores medievais\, da música devocional dos cancioneiros das Cantigas de Santa Maria e do Livro Vermelho de Montserrat\, da música profana do Carmina Burana\, das folias ibéricas e danças do Renascimento\, entre outras. \nOs bilhetes custam quatro euros (ou seis euros com a aquisição do CD).
URL:https://www.verdadeiroolhar.pt/evento/gambuzinos-na-casa-do-xine/
LOCATION:Casa do Xiné – Centro Cultural\, Quintandona\, Lagares\, Penafiel\, 4560-195
CATEGORIES:Cultura
ATTACH;FMTTYPE=image/jpeg:https://www.verdadeiroolhar.pt/wp-content/uploads/2018/01/Gambuzinos.jpg
ORGANIZER;CN="CASAXIN%C3%89%2C%20Associa%C3%A7%C3%A3o%20para%20a%20promo%C3%A7%C3%A3o%20e%20desenvolvimento%20cultural%20de%20Quintandona":MAILTO:geral@casadoxine.org
END:VEVENT
END:VCALENDAR