BEGIN:VCALENDAR
VERSION:2.0
PRODID:-//Verdadeiro Olhar - ECPv5.8.0//NONSGML v1.0//EN
CALSCALE:GREGORIAN
METHOD:PUBLISH
X-WR-CALNAME:Verdadeiro Olhar
X-ORIGINAL-URL:https://www.verdadeiroolhar.pt
X-WR-CALDESC:Events for Verdadeiro Olhar
BEGIN:VTIMEZONE
TZID:UTC
BEGIN:STANDARD
TZOFFSETFROM:+0000
TZOFFSETTO:+0000
TZNAME:UTC
DTSTART:20170101T000000
END:STANDARD
END:VTIMEZONE
BEGIN:VEVENT
DTSTART;TZID=UTC:20170826T203000
DTEND;TZID=UTC:20170826T233000
DTSTAMP:20260422T002107
CREATED:20170726T180137Z
LAST-MODIFIED:20170816T140449Z
UID:25295-1503779400-1503790200@www.verdadeiroolhar.pt
SUMMARY:Free Trail Nocturno a favor dos Bombeiros de Valongo
DESCRIPTION:A KeMedo Team\, numa organização conjunta com a Câmara Municipal de Valongo e o Clube BTT Valongo\, vai organizar mais um Free Trail de carácter solidário a favor dos Bombeiros Voluntários de Valongo. \nNo dia 26 de Agosto\, pelas 20h30\, com partida e chegada no Largo do Centenário\, em Valongo\, vai decorrer o Free Trail Nocturno “Solidários com os nossos Bombeiros”. Haverá um trail de 14 quilómetros e uma caminhada de sete quilómetros. \nNão existe valor mínimo de inscrição\, que não é obrigatória. Basta aparecer no dia e contribuir a favor da causa. \nNão existe qualquer carácter competitivo\, pelo que não haverá classificações.
URL:https://www.verdadeiroolhar.pt/evento/free-trail-nocturno-favor-dos-bombeiros-valongo/
LOCATION:Valongo\, Valongo
CATEGORIES:Desporto
ATTACH;FMTTYPE=image/jpeg:https://www.verdadeiroolhar.pt/wp-content/uploads/2017/07/20294084_1412965005416404_141407550821158208_n.jpg
END:VEVENT
END:VCALENDAR