BEGIN:VCALENDAR
VERSION:2.0
PRODID:-//Verdadeiro Olhar - ECPv5.8.0//NONSGML v1.0//EN
CALSCALE:GREGORIAN
METHOD:PUBLISH
X-WR-CALNAME:Verdadeiro Olhar
X-ORIGINAL-URL:https://www.verdadeiroolhar.pt
X-WR-CALDESC:Events for Verdadeiro Olhar
BEGIN:VTIMEZONE
TZID:UTC
BEGIN:STANDARD
TZOFFSETFROM:+0000
TZOFFSETTO:+0000
TZNAME:UTC
DTSTART:20150101T000000
END:STANDARD
END:VTIMEZONE
BEGIN:VEVENT
DTSTART;TZID=UTC:20151120T210000
DTEND;TZID=UTC:20151120T220000
DTSTAMP:20260421T111402
CREATED:20151026T152516Z
LAST-MODIFIED:20151026T152516Z
UID:1267-1448053200-1448056800@www.verdadeiroolhar.pt
SUMMARY:Formar pelo Olimpismo
DESCRIPTION:Acção acreditada pela Confederação de Treinadores de Portugal.
URL:https://www.verdadeiroolhar.pt/evento/formar-pelo-olimpismo/
LOCATION:Biblioteca Municipal de Lousada\, Lousada
CATEGORIES:Cultura,Desporto
END:VEVENT
END:VCALENDAR