BEGIN:VCALENDAR
VERSION:2.0
PRODID:-//Verdadeiro Olhar - ECPv5.8.0//NONSGML v1.0//EN
CALSCALE:GREGORIAN
METHOD:PUBLISH
X-WR-CALNAME:Verdadeiro Olhar
X-ORIGINAL-URL:https://www.verdadeiroolhar.pt
X-WR-CALDESC:Events for Verdadeiro Olhar
BEGIN:VTIMEZONE
TZID:UTC
BEGIN:STANDARD
TZOFFSETFROM:+0000
TZOFFSETTO:+0000
TZNAME:UTC
DTSTART:20170101T000000
END:STANDARD
END:VTIMEZONE
BEGIN:VEVENT
DTSTART;VALUE=DATE:20170720
DTEND;VALUE=DATE:20170724
DTSTAMP:20260422T152925
CREATED:20170703T104826Z
LAST-MODIFIED:20170703T104827Z
UID:23709-1500508800-1500854399@www.verdadeiroolhar.pt
SUMMARY:Festival Tradicional de Lousada
DESCRIPTION:De 20 a 23 de Julho\, a Avenida do Senhor dos Aflitos recebe o Festival Tradicional de Lousada com produtos regionais e música. Na quinta e na sexta-feira o evento abre as portas às 18h00 e fecha à meia-noite. No sábado e no domingo abre às 12h00 e volta a fechar à mesma hora. \nNa quinta-feira\, dia 20\, actuam a banda Cabra Cega\, na sexta-feira actuam Brigada e Victor Jara; no sábado\, sobe ao palco Claúdia Martins e os Minhotos Marotos e\, no domingo\, a banda Uxu Kalhus. \nOs concertos têm início marcado para as 22h00.
URL:https://www.verdadeiroolhar.pt/evento/festival-tradicional-lousada/
LOCATION:Avenida do Senhor dos Aflitos\, Avenida do Senhor dos Aflitos\, Lousada\, Portugal
CATEGORIES:Cultura,Eventos Públicos
ATTACH;FMTTYPE=image/jpeg:https://www.verdadeiroolhar.pt/wp-content/uploads/2017/07/Festival-Tradicional-Lousada.jpg
END:VEVENT
END:VCALENDAR