BEGIN:VCALENDAR
VERSION:2.0
PRODID:-//Verdadeiro Olhar - ECPv5.8.0//NONSGML v1.0//EN
CALSCALE:GREGORIAN
METHOD:PUBLISH
X-WR-CALNAME:Verdadeiro Olhar
X-ORIGINAL-URL:https://www.verdadeiroolhar.pt
X-WR-CALDESC:Events for Verdadeiro Olhar
BEGIN:VTIMEZONE
TZID:UTC
BEGIN:STANDARD
TZOFFSETFROM:+0000
TZOFFSETTO:+0000
TZNAME:UTC
DTSTART:20160101T000000
END:STANDARD
END:VTIMEZONE
BEGIN:VEVENT
DTSTART;VALUE=DATE:20160722
DTEND;VALUE=DATE:20160725
DTSTAMP:20260423T064441
CREATED:20160705T141332Z
LAST-MODIFIED:20160705T141403Z
UID:11031-1469145600-1469404799@www.verdadeiroolhar.pt
SUMMARY:Festival do Caldo Verde em Irivo
DESCRIPTION:A Junta de Freguesia de Irivo\, em Penafiel\, vai ser palco de mais um Festival do Caldo Verde\, este fim-de-semana\, de 22 a 24\, com música à mistura. \nO valor de entrada varia entre 1 euro\, que lhe dá acesso a entrada para um dia de festival\, e 2\,5 euros\, que lhe dá acesso aos três dias com direito a uma tigela de caldo verde. \n 
URL:https://www.verdadeiroolhar.pt/evento/festival-do-caldo-verde-irivo/
LOCATION:Junta de Freguesia de Irivo\, Rua da Igreja\, 4560-173 Irivo Penafiel\, Penafiel\,  4560-173 Irivo Penafiel\, Portugal
CATEGORIES:Eventos Públicos
ATTACH;FMTTYPE=image/jpeg:https://www.verdadeiroolhar.pt/wp-content/uploads/2016/07/13443242_610219692465798_5650127939880883217_o-1-e1467727642895.jpg
END:VEVENT
END:VCALENDAR