BEGIN:VCALENDAR
VERSION:2.0
PRODID:-//Verdadeiro Olhar - ECPv5.8.0//NONSGML v1.0//EN
CALSCALE:GREGORIAN
METHOD:PUBLISH
X-WR-CALNAME:Verdadeiro Olhar
X-ORIGINAL-URL:https://www.verdadeiroolhar.pt
X-WR-CALDESC:Events for Verdadeiro Olhar
BEGIN:VTIMEZONE
TZID:UTC
BEGIN:STANDARD
TZOFFSETFROM:+0000
TZOFFSETTO:+0000
TZNAME:UTC
DTSTART:20170101T000000
END:STANDARD
END:VTIMEZONE
BEGIN:VEVENT
DTSTART;VALUE=DATE:20170707
DTEND;VALUE=DATE:20170710
DTSTAMP:20260421T124913
CREATED:20170626T095957Z
LAST-MODIFIED:20170626T100528Z
UID:23258-1499385600-1499644799@www.verdadeiroolhar.pt
SUMMARY:Festival da Luz em Lousada
DESCRIPTION:A Avenida Senhor dos Aflitos\, em Lousada\, nos dias 7\, 8 e 9\, vai ser palco do Festival da Luz\, das 21h30\, à meia-noite. No dia 8\, haverá um concerto da artista Áurea.
URL:https://www.verdadeiroolhar.pt/evento/festival-da-luz-lousada/
LOCATION:Avenida do Senhor dos Aflitos\, Avenida do Senhor dos Aflitos\, Lousada\, Portugal
CATEGORIES:Eventos Públicos
ATTACH;FMTTYPE=image/jpeg:https://www.verdadeiroolhar.pt/wp-content/uploads/2017/06/Festival-da-Luz.jpg
END:VEVENT
END:VCALENDAR