BEGIN:VCALENDAR
VERSION:2.0
PRODID:-//Verdadeiro Olhar - ECPv5.8.0//NONSGML v1.0//EN
CALSCALE:GREGORIAN
METHOD:PUBLISH
X-WR-CALNAME:Verdadeiro Olhar
X-ORIGINAL-URL:https://www.verdadeiroolhar.pt
X-WR-CALDESC:Events for Verdadeiro Olhar
BEGIN:VTIMEZONE
TZID:UTC
BEGIN:STANDARD
TZOFFSETFROM:+0000
TZOFFSETTO:+0000
TZNAME:UTC
DTSTART:20160101T000000
END:STANDARD
END:VTIMEZONE
BEGIN:VEVENT
DTSTART;TZID=UTC:20160916T193000
DTEND;TZID=UTC:20160917T040000
DTSTAMP:20260424T160449
CREATED:20160906T163313Z
LAST-MODIFIED:20160906T163313Z
UID:12919-1474054200-1474084800@www.verdadeiroolhar.pt
SUMMARY:Festival da Juventude de Lousada
DESCRIPTION:A 16 e 17 de Setembro\, o Complexo Desportivo de Lousada recebe o Festival da Juventude 2016. Entre os nomes que se destacam estão Jimmy P\, Regula\, Karetus\, Paus\, e Octa Push e DJ Glue. \nEstarão ainda presentes artistas de Lousada como Fulano X\, White Mercúrio\, bem como o DJ Garcês\, Bruno R & MC Durval (Mundo Secreto)\, Cristian Sake\, The Bounces Dj´s\, Nuno Esteves e Dubsoul. \nOs bilhetes podem ser adquiridos na Associação de Cultura Musical\, responsável pela organização\, na Loja Interactiva de Turismo\, em www.liveeventticketing.com e www.ticketline.pt. \nO preço da entrada é de oito euros para um dia e 12 euros para os dois dias. \nA abertura das portas é às 19h30 com concertos de bandas locais até às 21h00 e vai-se poder jantar no recinto do Festival. Seguem-se mais dois espectáculos e\, a partir das 24h00 até às 04h00\, os dj´s nacionais e internacionais tomam conta do palco.
URL:https://www.verdadeiroolhar.pt/evento/festival-da-juventude-lousada/
LOCATION:Complexo Desportivo de Lousada\, Lousada\, Portugal
CATEGORIES:Cultura,Eventos Públicos
ATTACH;FMTTYPE=image/jpeg:https://www.verdadeiroolhar.pt/wp-content/uploads/2016/08/Cartaz-Festival-Juventude.jpg
END:VEVENT
END:VCALENDAR