BEGIN:VCALENDAR
VERSION:2.0
PRODID:-//Verdadeiro Olhar - ECPv5.8.0//NONSGML v1.0//EN
CALSCALE:GREGORIAN
METHOD:PUBLISH
X-WR-CALNAME:Verdadeiro Olhar
X-ORIGINAL-URL:https://www.verdadeiroolhar.pt
X-WR-CALDESC:Events for Verdadeiro Olhar
BEGIN:VTIMEZONE
TZID:UTC
BEGIN:STANDARD
TZOFFSETFROM:+0000
TZOFFSETTO:+0000
TZNAME:UTC
DTSTART:20190101T000000
END:STANDARD
END:VTIMEZONE
BEGIN:VEVENT
DTSTART;VALUE=DATE:20190731
DTEND;VALUE=DATE:20190805
DTSTAMP:20260424T155550
CREATED:20190723T181604Z
LAST-MODIFIED:20190723T181604Z
UID:67091-1564531200-1564963199@www.verdadeiroolhar.pt
SUMMARY:Festival da Boleia em Lousada
DESCRIPTION:De 31 de Julho a 4 de Agosto\, Lousada recebe o HitchFest – Festival da Boleia. \nEste evento pretende aprofundar a partilha em torno da viagem\, ecologia\, activismo\, auto-descoberta e consciência. \nO HitchFest 2019 vai ter lugar no Parque de Merendas do Amial\, em Cernadelo.
URL:https://www.verdadeiroolhar.pt/evento/festival-da-boleia-lousada/
CATEGORIES:Eventos Públicos
ATTACH;FMTTYPE=image/jpeg:https://www.verdadeiroolhar.pt/wp-content/uploads/2019/07/festival-da-boleia.jpg
END:VEVENT
END:VCALENDAR