BEGIN:VCALENDAR
VERSION:2.0
PRODID:-//Verdadeiro Olhar - ECPv5.8.0//NONSGML v1.0//EN
CALSCALE:GREGORIAN
METHOD:PUBLISH
X-WR-CALNAME:Verdadeiro Olhar
X-ORIGINAL-URL:https://www.verdadeiroolhar.pt
X-WR-CALDESC:Events for Verdadeiro Olhar
BEGIN:VTIMEZONE
TZID:UTC
BEGIN:STANDARD
TZOFFSETFROM:+0000
TZOFFSETTO:+0000
TZNAME:UTC
DTSTART:20170101T000000
END:STANDARD
END:VTIMEZONE
BEGIN:VEVENT
DTSTART;VALUE=DATE:20170520
DTEND;VALUE=DATE:20170522
DTSTAMP:20260421T175651
CREATED:20170503T173020Z
LAST-MODIFIED:20170503T173020Z
UID:20493-1495238400-1495411199@www.verdadeiroolhar.pt
SUMMARY:Festival Confluências: Salvador Sobral no Marco de Canaveses
DESCRIPTION:O Festival Confluências – Quintas do Barroco do Tâmega e Sousa\, promovido pela Comunidade Intermunicipal do Tâmega e Sousa\, em articulação com os 11 municípios que a integram – Amarante\, Baião\, Castelo de Paiva\, Celorico de Basto\, Cinfães\, Felgueiras\, Lousada\, Marco de Canaveses\, Paços de Ferreira\, Penafiel e Resende –\, vai abrir ao público várias residências nobres\, de estilo barroco\, do Tâmega e Sousa. \nNo total\, serão 22 dias de programação cultural\, com 66 concertos\, 22 espectáculos para famílias e 15 novas criações. Virgem Suta\, Salvador Sobral\, Sean Riley & The Slowriders\, Celina da Piedade\, First Breath After Coma\, Best Youth\, Dead Combo\, Birds Are Indie\, Noiserv e Samuel Úria são alguns dos nomes convidados. \nA entrada nos espectáculos é gratuita\, mas sujeita à lotação do espaço. \nDecorre a 20 e 21 de Maio no Marco de Canaveses\, nas Obras do Fidalgo. \n \nPrograma \n20 de Maio \n15h00 \nArlequins e Saltimbancos – Programação para Famílias \nEphemeros\, a vida num só dia – Teatro em Caixa \n16h00  \nHá Música na Quinta – Ciclo de Concertos \nFilipe Sambado; Éme; Lavoisier \n21h45 \nMonodonia – Concerto \nSalvador Sobral \n  \n21 de Maio  \n15h30  \nAllegro – Concerto de Grupo Local \nGrupo de Concertinas de Sobretâmega \n16h30  \nLendas do Tâmega e Sousa – Espectáculo de Marionetas \nLendas da nossa terra por Romão\, o ancião: lenda dos quatro irmãos – Limite Zero \n17h30  \nSonatas e Tocatas – Concerto de Comunidade \nPrimeiro Andamento \nDireção artística: Ricardo Baptista e António Serginho \nCriação e composição: Teresa Melo Campos e Ricardo Coelho com Propagode (Amarante)\, Rancho Folclórico de Baião e Rancho Folclórico de Santa Maria de Maureles (Marco de Canaveses) \n 
URL:https://www.verdadeiroolhar.pt/evento/festival-confluencias-salvador-sobral-no-marco-canaveses/
LOCATION:Marco de Canaveses
CATEGORIES:Eventos Públicos
ATTACH;FMTTYPE=image/jpeg:https://www.verdadeiroolhar.pt/wp-content/uploads/2017/05/Salvador-Sobral_Sem-creditos.jpg
END:VEVENT
END:VCALENDAR