BEGIN:VCALENDAR
VERSION:2.0
PRODID:-//Verdadeiro Olhar - ECPv5.8.0//NONSGML v1.0//EN
CALSCALE:GREGORIAN
METHOD:PUBLISH
X-WR-CALNAME:Verdadeiro Olhar
X-ORIGINAL-URL:https://www.verdadeiroolhar.pt
X-WR-CALDESC:Events for Verdadeiro Olhar
BEGIN:VTIMEZONE
TZID:UTC
BEGIN:STANDARD
TZOFFSETFROM:+0000
TZOFFSETTO:+0000
TZNAME:UTC
DTSTART:20170101T000000
END:STANDARD
END:VTIMEZONE
BEGIN:VEVENT
DTSTART;VALUE=DATE:20170713
DTEND;VALUE=DATE:20170717
DTSTAMP:20260422T040857
CREATED:20170612T093700Z
LAST-MODIFIED:20170612T093700Z
UID:22521-1499904000-1500249599@www.verdadeiroolhar.pt
SUMMARY:Festas da Cidade de Paredes 2017
DESCRIPTION:Já está definido o cartaz das Festas da Cidade de Paredes 2017\, organizadas pela Abraçar Paredes\, de 13 a 16 de Julho. \nQuim Barreiros vai animar as festas no dia 13 de Julho. Seguem-se os SantaMaria no dia 14. Os Xutos e Pontapés são os cabeça de cartaz do dia 15 e a fadista Mariza encerra o certame a 16 de Julho.
URL:https://www.verdadeiroolhar.pt/evento/festas-da-cidade-paredes-2017/
LOCATION:Paredes
CATEGORIES:Eventos Públicos
ATTACH;FMTTYPE=image/jpeg:https://www.verdadeiroolhar.pt/wp-content/uploads/2017/06/19029662_1563995977005839_2026401262442243326_n.jpg
ORGANIZER;CN="Abra%C3%A7ar%20Paredes":MAILTO:geral@abracarparedes.pt
END:VEVENT
END:VCALENDAR