BEGIN:VCALENDAR
VERSION:2.0
PRODID:-//Verdadeiro Olhar - ECPv5.8.0//NONSGML v1.0//EN
CALSCALE:GREGORIAN
METHOD:PUBLISH
X-WR-CALNAME:Verdadeiro Olhar
X-ORIGINAL-URL:https://www.verdadeiroolhar.pt
X-WR-CALDESC:Events for Verdadeiro Olhar
BEGIN:VTIMEZONE
TZID:UTC
BEGIN:STANDARD
TZOFFSETFROM:+0000
TZOFFSETTO:+0000
TZNAME:UTC
DTSTART:20150101T000000
END:STANDARD
END:VTIMEZONE
BEGIN:VEVENT
DTSTART;TZID=UTC:20151219T143000
DTEND;TZID=UTC:20151219T203000
DTSTAMP:20260422T210337
CREATED:20151125T173006Z
LAST-MODIFIED:20151125T173006Z
UID:2304-1450535400-1450557000@www.verdadeiroolhar.pt
SUMMARY:Festa de Natal Sénior
DESCRIPTION:No dia 19 de Dezembro\, irá realizar-se uma Festa de Natal Sénior\, no Pavilhão Manuel M. Neto\, em Rebordosa. As inscrições são na Junta de Freguesia.
URL:https://www.verdadeiroolhar.pt/evento/festa-de-natal-senior/
LOCATION:Pavilhão Manuel M. Neto\, Praça da Comunidade\, Rebordosa\, 4585
CATEGORIES:Cultura
END:VEVENT
END:VCALENDAR