BEGIN:VCALENDAR
VERSION:2.0
PRODID:-//Verdadeiro Olhar - ECPv5.8.0//NONSGML v1.0//EN
CALSCALE:GREGORIAN
METHOD:PUBLISH
X-WR-CALNAME:Verdadeiro Olhar
X-ORIGINAL-URL:https://www.verdadeiroolhar.pt
X-WR-CALDESC:Events for Verdadeiro Olhar
BEGIN:VTIMEZONE
TZID:UTC
BEGIN:STANDARD
TZOFFSETFROM:+0000
TZOFFSETTO:+0000
TZNAME:UTC
DTSTART:20180101T000000
END:STANDARD
END:VTIMEZONE
BEGIN:VEVENT
DTSTART;TZID=UTC:20180602T150000
DTEND;TZID=UTC:20180602T180000
DTSTAMP:20260425T155002
CREATED:20180530T121110Z
LAST-MODIFIED:20180530T121110Z
UID:41883-1527951600-1527962400@www.verdadeiroolhar.pt
SUMMARY:Festa da Criança em Baltar
DESCRIPTION:A Associação Clube de Jazz e a Junta de Freguesia de Baltar vão comemorar o Dia Mundial da Criança\, no próximo dia 2 de Junho\, a partir das 15h00\, no Largo Pereira Inácio\, em Baltar\, Paredes. \nO evento tem como objectivo proporcionar um dia repleto de diversão a todas as crianças de Baltar. No final será oferecido um lanhe a todas as crianças presentes.
URL:https://www.verdadeiroolhar.pt/evento/festa-da-crianca-baltar/
LOCATION:Baltar\, Paredes
CATEGORIES:Eventos Públicos
ATTACH;FMTTYPE=image/jpeg:https://www.verdadeiroolhar.pt/wp-content/uploads/2018/05/festa-criança1.jpg
END:VEVENT
END:VCALENDAR