BEGIN:VCALENDAR
VERSION:2.0
PRODID:-//Verdadeiro Olhar - ECPv5.8.0//NONSGML v1.0//EN
CALSCALE:GREGORIAN
METHOD:PUBLISH
X-WR-CALNAME:Verdadeiro Olhar
X-ORIGINAL-URL:https://www.verdadeiroolhar.pt
X-WR-CALDESC:Events for Verdadeiro Olhar
BEGIN:VTIMEZONE
TZID:UTC
BEGIN:STANDARD
TZOFFSETFROM:+0000
TZOFFSETTO:+0000
TZNAME:UTC
DTSTART:20150101T000000
END:STANDARD
END:VTIMEZONE
BEGIN:VEVENT
DTSTART;TZID=UTC:20151207T090000
DTEND;TZID=UTC:20151211T180000
DTSTAMP:20260422T104234
CREATED:20151126T150810Z
LAST-MODIFIED:20151126T150924Z
UID:2339-1449478800-1449856800@www.verdadeiroolhar.pt
SUMMARY:Exposição “Historia da Serragem da Velha”
DESCRIPTION:Nos dias 7\, 9\, 10 e 11 de Dezembro\, irá realizar-se uma Exposição “Historia da Serragem da Velha”\, na Junta de Freguesia de Rebordosa. \nEste evento terá o seguinte horário: 09hoo às 12h00 / 14h00 às 18h00.
URL:https://www.verdadeiroolhar.pt/evento/feira-de-rebordosa/
LOCATION:Junta de Freguesia de Rebordosa\, Avenida Bombeiros Voluntários\, 158 R/ch Dt\, Rebordosa\, 4585-359
CATEGORIES:Cultura
END:VEVENT
END:VCALENDAR