BEGIN:VCALENDAR
VERSION:2.0
PRODID:-//Verdadeiro Olhar - ECPv5.8.0//NONSGML v1.0//EN
CALSCALE:GREGORIAN
METHOD:PUBLISH
X-WR-CALNAME:Verdadeiro Olhar
X-ORIGINAL-URL:https://www.verdadeiroolhar.pt
X-WR-CALDESC:Events for Verdadeiro Olhar
BEGIN:VTIMEZONE
TZID:UTC
BEGIN:STANDARD
TZOFFSETFROM:+0000
TZOFFSETTO:+0000
TZNAME:UTC
DTSTART:20170101T000000
END:STANDARD
END:VTIMEZONE
BEGIN:VEVENT
DTSTART;TZID=UTC:20170407T100000
DTEND;TZID=UTC:20170409T190000
DTSTAMP:20260423T010405
CREATED:20170316T114126Z
LAST-MODIFIED:20170403T095625Z
UID:18827-1491559200-1491764400@www.verdadeiroolhar.pt
SUMMARY:Feira da Saúde e Bem-Estar
DESCRIPTION:O pelouro da Saúde da Câmara Municipal de Paredes encontra-se a organizar uma Feira da Saúde e Bem-Estar que terá lugar nos dias 7\, 8 e 9 de Abril\, na Praça José Guilherme em Paredes. \nCom esta Feira de Saúde pretende-se que a população tenha acesso a informação acerca da prevenção da saúde e a alguns rastreios e diagnósticos\, bem como a palestras e actividades diversas\, desportivas e outras. \n 
URL:https://www.verdadeiroolhar.pt/evento/feira-da-saude-bem-estar/
LOCATION:Praça José Guilherme\, Paredes
CATEGORIES:Eventos Públicos
ATTACH;FMTTYPE=image/png:https://www.verdadeiroolhar.pt/wp-content/uploads/2017/03/feira_da_saude_e_bem_estar_1_1024_571.png
END:VEVENT
END:VCALENDAR