BEGIN:VCALENDAR
VERSION:2.0
PRODID:-//Verdadeiro Olhar - ECPv5.8.0//NONSGML v1.0//EN
CALSCALE:GREGORIAN
METHOD:PUBLISH
X-WR-CALNAME:Verdadeiro Olhar
X-ORIGINAL-URL:https://www.verdadeiroolhar.pt
X-WR-CALDESC:Events for Verdadeiro Olhar
BEGIN:VTIMEZONE
TZID:UTC
BEGIN:STANDARD
TZOFFSETFROM:+0000
TZOFFSETTO:+0000
TZNAME:UTC
DTSTART:20160101T000000
END:STANDARD
END:VTIMEZONE
BEGIN:VEVENT
DTSTART;TZID=UTC:20160813T180000
DTEND;TZID=UTC:20160814T200000
DTSTAMP:20260423T131244
CREATED:20160805T163400Z
LAST-MODIFIED:20160805T163400Z
UID:12201-1471111200-1471204800@www.verdadeiroolhar.pt
SUMMARY:Feira de Artesanato em Modelos
DESCRIPTION:A Junta de Freguesia de Paços de Ferreira organiza\, a 13 e 14 de Agosto\, uma Feira de Artesanato. O evento contará com música\, animação e tasquinhas e decorrerá no Largo da Igreja\, em Modelos. \nNo dia abre às 18h00 e fecha às 00h00. No domingo decorre entre as 10h00 e as 20h00. \n 
URL:https://www.verdadeiroolhar.pt/evento/feira-artesanato-modelos/
LOCATION:Igreja de Modelos\, Modelos\, Paços de Ferreira
CATEGORIES:Cultura
ATTACH;FMTTYPE=image/jpeg:https://www.verdadeiroolhar.pt/wp-content/uploads/2016/08/Sem-título.jpg
END:VEVENT
END:VCALENDAR